Workbook
Name しごと創生: [1]リスト!$C$3:$C$5
Name まちづくり: [1]リスト!$F$3:$F$4
Name 大項目: [2]様式!$CE$2:$CH$2
Name 地方への人の流れ: [1]リスト!$D$3:$D$4
Name 都道府県: [1]地方公共団体!$A$1:$AV$1
Name 働き方改革: [1]リスト!$E$3:$E$4

Sheet 1-3
A1: 様式1-3 事業費整理表（財源別）（記入例）
A2: ≪現時点での事業費見込み≫ | AV2: （単位：千円）
A3: 年度 | F3: 交付対象事業 （①＋②） | N3: 内訳 | AD3: 地域の産学官の負担分 | AS3: 総額 (B+G+H+I)
N4: ①基盤構築分 （地方大学・地域産業創生交付金) | V4: ②プロジェクト実施分 （新しい地方経済・生活環境創生交付金）
F6: 交付対象 事業費 （A=C+E） | N6: 交付対象 事業費 （C） | V6: 交付対象 事業費 （E） | AD6: 地方公共団体 (関連単独事業含む)(G) | AI6: 大学 (自己財源分)(H) | AN6: 事業者等 (自己財源分)(I)
J7: 交付申請額 （B=D+F） | R7: 交付申請額（D） | Z7: 交付申請額（F）
A9: 令和●（202■）年度 | F9: =SUM(N9,V9) -> 1000000 | J9: =SUM(R9,Z9) -> 600000 | N9: 200000 | R9: 100000 | V9: 800000 | Z9: 500000 | AD9: 400000 | AI9: 5000 | AN9: 100000 | AS9: =SUM(J9,AD9,AI9,AN9) -> 1105000
A10: 令和○（202□）年度 | F10: =SUM(N10,V10) -> 1300000 | J10: =SUM(R10,Z10) -> 700000 | N10: 240000 | R10: 120000 | V10: 1060000 | Z10: 580000 | AD10: 500000 | AI10: 10000 | AN10: 150000 | AS10: =SUM(J10,AD10,AI10,AN10) -> 1360000
A11: 令和○（202□）年度 | F11: =SUM(N11,V11) -> 1300000 | J11: =SUM(R11,Z11) -> 700000 | N11: 240000 | R11: 120000 | V11: 1060000 | Z11: 580000 | AD11: 500000 | AI11: 10000 | AN11: 150000 | AS11: =SUM(J11,AD11,AI11,AN11) -> 1360000
A12: 令和○（202□）年度 | F12: =SUM(N12,V12) -> 1300000 | J12: =SUM(R12,Z12) -> 700000 | N12: 240000 | R12: 120000 | V12: 1060000 | Z12: 580000 | AD12: 500000 | AI12: 10000 | AN12: 150000 | AS12: =SUM(J12,AD12,AI12,AN12) -> 1360000
A13: 令和○（202□）年度 | F13: =SUM(N13,V13) -> 1300000 | J13: =SUM(R13,Z13) -> 700000 | N13: 240000 | R13: 120000 | V13: 1060000 | Z13: 580000 | AD13: 400000 | AI13: 10000 | AN13: 250000 | AS13: =SUM(J13,AD13,AI13,AN13) -> 1360000
A14: 支援期間合計 | F14: =SUM($F$9:$I$13) -> 6200000 | J14: =SUM($J$9:$M$13) -> 3400000 | N14: =SUM($N$9:$Q$13) -> 1160000 | R14: =SUM($R$9:$U$13) -> 580000 | V14: =SUM($V$9:$Y$13) -> 5040000 | Z14: =SUM($Z$9:$AC$13) -> 2820000 | AD14: =SUM(AD9:AH13) -> 2300000 | AI14: =SUM(AI9:AM13) -> 45000 | AN14: =SUM(AN9:AR13) -> 800000 | AS14: =SUM(J14,AD14,AI14,AN14) -> 6545000
A15: 令和○（202□）年度 | F15: =SUM(N15,V15) -> 0 | J15: =SUM(R15,Z15) -> 0 | AD15: 700000 | AI15: 10000 | AN15: 400000 | AS15: =SUM(J15,AD15,AI15,AN15) -> 1110000
A16: 令和○（202□）年度 | F16: =SUM(N16,V16) -> 0 | J16: =SUM(R16,Z16) -> 0 | AD16: 700000 | AI16: 10000 | AN16: 400000 | AS16: =SUM(J16,AD16,AI16,AN16) -> 1110000
A17: 令和○（202□）年度 | F17: =SUM(N17,V17) -> 0 | J17: =SUM(R17,Z17) -> 0 | AD17: 700000 | AI17: 10000 | AN17: 400000 | AS17: =SUM(J17,AD17,AI17,AN17) -> 1110000
A18: 令和○（202□）年度 | F18: =SUM(N18,V18) -> 0 | J18: =SUM(R18,Z18) -> 0 | AD18: 600000 | AI18: 50000 | AN18: 450000 | AS18: =SUM(J18,AD18,AI18,AN18) -> 1100000
A19: 展開枠期間合計 | F19: =SUM($F$15:$I$18) -> 0 | J19: =SUM($J$15:$M$18) -> 0 | N19: =SUM($N$15:$Q$18) -> 0 | R19: =SUM($R$15:$U$18) -> 0 | V19: =SUM($V$15:$Y$18) -> 0 | Z19: =SUM($Z$15:$AC$18) -> 0 | AD19: =SUM(AD15:AH18) -> 2700000 | AI19: =SUM(AI15:AM18) -> 80000 | AN19: =SUM(AN15:AR18) -> 1650000 | AS19: =SUM(J19,AD19,AI19,AN19) -> 4430000
A20: 令和○（202□）年度 | AD20: 500000 | AI20: 50000 | AN20: 550000 | AS20: =SUM(AD20,AI20,AN20) -> 1100000
A21: 計画期間合計 | F21: =SUM($F$9:$I$13,F15:I18) -> 6200000 | J21: =SUM($J$9:$M$13,J15:M18) -> 3400000 | N21: =SUM($N$9:$Q$13,N15:Q18) -> 1160000 | R21: =SUM($R$9:$U$13,R15:U18) -> 580000 | V21: =SUM($V$9:$Y$13,V15:Y18) -> 5040000 | Z21: =SUM($Z$9:$AC$13,Z15:AC18) -> 2820000 | AD21: =SUM(AD9:AH13,AD15:AH18,AD20) -> 5500000 | AI21: =SUM(AI9:AM13,AI15:AM18,AI20) -> 175000 | AN21: =SUM(AN9:AR13,AN15:AR18,AN20) -> 3000000 | AS21: =SUM(AS9:AV13,AS15:AV18,AS20) -> 12075000
A22: ※年度は、最初の交付年度を基準として、「和暦(西暦)年度」で記載ください（適宜、行を追加・削除してください）。
A23: ※交付申請額については、記載した額の交付が担保されるわけではありません。
A24: ※地方公共団体の負担分（G）は、交付対象事業の地方負担分（AからBを引いたもの）に加え、計画に位置づける地方単独事業の事業費を含む。様式１－７に詳細を整理。
A25: ※大学（自己財源分）（H）は、様式１－８に詳細を整理。
A26: ※事業者等（自己財源分）（I）は、様式１－９に詳細を整理。

Sheet 1-4 
A1: 様式1-4 事業費整理表（事業別）（記入例）
N2: （単位：千円）
A3: 事業番号 | B3: 事業名 | C3: 区分 | D3: 細区分 | E3: 令和●（202■）年度 | F3: 内訳
F4: 補助事業者執行分 | I4: 間接補助事業者執行分①【機関名】 | L4: 間接補助事業者執行分②【機関名】
F5: 交付率：1/2 | G5: 交付率：2/3 | H5: 交付率：3/4 | I5: 交付率：1/2 | J5: 交付率：2/3 | K5: 交付率：3/4 | L5: 交付率：1/2 | M5: 交付率：2/3 | N5: 交付率：3/4
A6: ① | B6: △△産業の高付加価値化に向けた、オープンイノベーション拠点における研究開発 | C6: 交付申請額 | D6: 地方大学・地域産業創生交付金 | E6: =SUM(F6:N6) -> 0 | F6: ='1-15-①（基）'!H47 -> 0 | G6: ='1-15-①（基）'!J47 -> 0 | H6: ='1-15-①（基）'!L47 -> 0 | I6: ='1-15-①（基）'!Q47 -> 0 | J6: ='1-15-①（基）'!S47 -> 0 | K6: ='1-15-①（基）'!U47 -> 0 | L6: ='1-15-①（基）'!Z47 -> 0 | M6: ='1-15-①（基）'!AB47 -> 0 | N6: ='1-15-①（基）'!AD47 -> 0
D7: 新しい地方経済・生活環境創生交付金 | E7: =SUM(F7:N7) -> 0 | F7: ='1-15-①（プ）'!H47 -> 0 | G7: ='1-15-①（プ）'!J47 -> 0 | H7: ='1-15-①（プ）'!L47 -> 0 | I7: ='1-15-①（プ）'!Q47 -> 0 | J7: ='1-15-①（プ）'!S47 -> 0 | K7: ='1-15-①（プ）'!U47 -> 0 | L7: ='1-15-①（プ）'!Z47 -> 0 | M7: ='1-15-①（プ）'!AB47 -> 0 | N7: ='1-15-①（プ）'!AD47 -> 0
C8: 交付対象事業費 | E8: =SUM(F8:N8) -> 0 | F8: =SUM('1-15-①（基）'!G47,'1-15-①（プ）'!G47) -> 0 | G8: =SUM('1-15-①（基）'!I47,'1-15-①（プ）'!I47) -> 0 | H8: =SUM('1-15-①（基）'!K47,'1-15-①（プ）'!K47) -> 0 | I8: =SUM('1-15-①（基）'!P47,'1-15-①（プ）'!P47) -> 0 | J8: =SUM('1-15-①（基）'!R47,'1-15-①（プ）'!R47) -> 0 | K8: =SUM('1-15-①（基）'!T47,'1-15-①（プ）'!T47) -> 0 | L8: =SUM('1-15-①（基）'!Y47,'1-15-①（プ）'!Y47) -> 0 | M8: =SUM('1-15-①（基）'!AA47,'1-15-①（プ）'!AA47) -> 0 | N8: =SUM('1-15-①（基）'!AC47,'1-15-①（プ）'!AC47) -> 0
A9: ② | B9: ～～ | C9: 交付申請額 | D9: 地方大学・地域産業創生交付金 | E9: =SUM(F9:N9) -> 0 | F9: ='1-15-②（基）'!H47 -> 0 | G9: ='1-15-②（基）'!J47 -> 0 | H9: ='1-15-②（基）'!L47 -> 0 | I9: ='1-15-②（基）'!Q47 -> 0 | J9: ='1-15-②（基）'!S47 -> 0 | K9: ='1-15-②（基）'!U47 -> 0 | L9: ='1-15-②（基）'!Z47 -> 0 | M9: ='1-15-②（基）'!AB47 -> 0 | N9: ='1-15-②（基）'!AD47 -> 0
D10: 新しい地方経済・生活環境創生交付金 | E10: =SUM(F10:N10) -> 0 | F10: ='1-15-②（プ）'!H47 -> 0 | G10: ='1-15-②（プ）'!J47 -> 0 | H10: ='1-15-②（プ）'!L47 -> 0 | I10: ='1-15-②（プ）'!Q47 -> 0 | J10: ='1-15-②（プ）'!S47 -> 0 | K10: ='1-15-②（プ）'!U47 -> 0 | L10: ='1-15-②（プ）'!Z47 -> 0 | M10: ='1-15-②（プ）'!AB47 -> 0 | N10: ='1-15-②（プ）'!AD47 -> 0
C11: 交付対象事業費 | E11: =SUM(F11:N11) -> 0 | F11: =SUM('1-15-②（基）'!G47,'1-15-②（プ）'!G47) -> 0 | G11: =SUM('1-15-②（基）'!I47,'1-15-②（プ）'!I47) -> 0 | H11: =SUM('1-15-②（基）'!K47,'1-15-②（プ）'!K47) -> 0 | I11: =SUM('1-15-②（基）'!P47,'1-15-②（プ）'!P47) -> 0 | J11: =SUM('1-15-②（基）'!R47,'1-15-②（プ）'!R47) -> 0 | K11: =SUM('1-15-②（基）'!T47,'1-15-②（プ）'!T47) -> 0 | L11: =SUM('1-15-②（基）'!Y47,'1-15-②（プ）'!Y47) -> 0 | M11: =SUM('1-15-②（基）'!AA47,'1-15-②（プ）'!AA47) -> 0 | N11: =SUM('1-15-②（基）'!AC47,'1-15-②（プ）'!AC47) -> 0
A12: ③ | B12: ～～ | C12: 交付申請額 | D12: 地方大学・地域産業創生交付金 | E12: =SUM(F12:N12) -> 0 | F12: ='1-15-③（基）'!H47 -> 0 | G12: ='1-15-③（基）'!J47 -> 0 | H12: ='1-15-③（基）'!L47 -> 0 | I12: ='1-15-③（基）'!Q47 -> 0 | J12: ='1-15-③（基）'!S47 -> 0 | K12: ='1-15-③（基）'!U47 -> 0 | L12: ='1-15-③（基）'!Z47 -> 0 | M12: ='1-15-③（基）'!AB47 -> 0 | N12: ='1-15-③（基）'!AD47 -> 0
D13: 新しい地方経済・生活環境創生交付金 | E13: =SUM(F13:N13) -> 0 | F13: ='1-15-③（プ）'!H47 -> 0 | G13: ='1-15-③（プ）'!J47 -> 0 | H13: ='1-15-③（プ）'!L47 -> 0 | I13: ='1-15-③（プ）'!Q47 -> 0 | J13: ='1-15-③（プ）'!S47 -> 0 | K13: ='1-15-③（プ）'!U47 -> 0 | L13: ='1-15-③（プ）'!Z47 -> 0 | M13: ='1-15-③（プ）'!AB47 -> 0 | N13: ='1-15-③（プ）'!AD47 -> 0
C14: 交付対象事業費 | E14: =SUM(F14:N14) -> 0 | F14: =SUM('1-15-③（基）'!G47,'1-15-③（プ）'!G47) -> 0 | G14: =SUM('1-15-③（基）'!I47,'1-15-③（プ）'!I47) -> 0 | H14: =SUM('1-15-③（基）'!K47,'1-15-③（プ）'!K47) -> 0 | I14: =SUM('1-15-③（基）'!P47,'1-15-③（プ）'!P47) -> 0 | J14: =SUM('1-15-③（基）'!R47,'1-15-③（プ）'!R47) -> 0 | K14: =SUM('1-15-③（基）'!T47,'1-15-③（プ）'!T47) -> 0 | L14: =SUM('1-15-③（基）'!Y47,'1-15-③（プ）'!Y47) -> 0 | M14: =SUM('1-15-③（基）'!AA47,'1-15-③（プ）'!AA47) -> 0 | N14: =SUM('1-15-③（基）'!AC47,'1-15-③（プ）'!AC47) -> 0
A15: ④ | B15: ～～ | C15: 交付申請額 | D15: 地方大学・地域産業創生交付金 | E15: =SUM(F15:N15) -> 0 | F15: ='1-15-④（基）'!H47 -> 0 | G15: ='1-15-④（基）'!J47 -> 0 | H15: ='1-15-④（基）'!L47 -> 0 | I15: ='1-15-④（基）'!Q47 -> 0 | J15: ='1-15-④（基）'!S47 -> 0 | K15: ='1-15-④（基）'!U47 -> 0 | L15: ='1-15-④（基）'!Z47 -> 0 | M15: ='1-15-④（基）'!AB47 -> 0 | N15: ='1-15-④（基）'!AD47 -> 0
D16: 新しい地方経済・生活環境創生交付金 | E16: =SUM(F16:N16) -> 0 | F16: ='1-15-④（プ）'!H47 -> 0 | G16: ='1-15-④（プ）'!J47 -> 0 | H16: ='1-15-④（プ）'!L47 -> 0 | I16: ='1-15-④（プ）'!Q47 -> 0 | J16: ='1-15-④（プ）'!S47 -> 0 | K16: ='1-15-④（プ）'!U47 -> 0 | L16: ='1-15-④（プ）'!Z47 -> 0 | M16: ='1-15-④（プ）'!AB47 -> 0 | N16: ='1-15-④（プ）'!AD47 -> 0
C17: 交付対象事業費 | E17: =SUM(F17:N17) -> 0 | F17: =SUM('1-15-④（基）'!G47,'1-15-④（プ）'!G47) -> 0 | G17: =SUM('1-15-④（基）'!I47,'1-15-④（プ）'!I47) -> 0 | H17: =SUM('1-15-④（基）'!K47,'1-15-④（プ）'!K47) -> 0 | I17: =SUM('1-15-④（基）'!P47,'1-15-④（プ）'!P47) -> 0 | J17: =SUM('1-15-④（基）'!R47,'1-15-④（プ）'!R47) -> 0 | K17: =SUM('1-15-④（基）'!T47,'1-15-④（プ）'!T47) -> 0 | L17: =SUM('1-15-④（基）'!Y47,'1-15-④（プ）'!Y47) -> 0 | M17: =SUM('1-15-④（基）'!AA47,'1-15-④（プ）'!AA47) -> 0 | N17: =SUM('1-15-④（基）'!AC47,'1-15-④（プ）'!AC47) -> 0
A18: ⑤ | C18: 交付申請額 | D18: 地方大学・地域産業創生交付金 | E18: =SUM(F18:N18) -> 0 | F18: ='1-15-⑤（基）'!H47 -> 0 | G18: ='1-15-⑤（基）'!J47 -> 0 | H18: ='1-15-⑤（基）'!L47 -> 0 | I18: ='1-15-⑤（基）'!Q47 -> 0 | J18: ='1-15-⑤（基）'!S47 -> 0 | K18: ='1-15-⑤（基）'!U47 -> 0 | L18: ='1-15-⑤（基）'!Z47 -> 0 | M18: ='1-15-⑤（基）'!AB47 -> 0 | N18: ='1-15-⑤（基）'!AD47 -> 0
D19: 新しい地方経済・生活環境創生交付金 | E19: =SUM(F19:N19) -> 0 | F19: ='1-15-⑤（プ）'!H47 -> 0 | G19: ='1-15-⑤（プ）'!J47 -> 0 | H19: ='1-15-⑤（プ）'!L47 -> 0 | I19: ='1-15-⑤（プ）'!Q47 -> 0 | J19: ='1-15-⑤（プ）'!S47 -> 0 | K19: ='1-15-⑤（プ）'!U47 -> 0 | L19: ='1-15-⑤（プ）'!Z47 -> 0 | M19: ='1-15-⑤（プ）'!AB47 -> 0 | N19: ='1-15-⑤（プ）'!AD47 -> 0
C20: 交付対象事業費 | E20: =SUM(F20:N20) -> 0 | F20: =SUM('1-15-⑤（基）'!G47,'1-15-⑤（プ）'!G47) -> 0 | G20: =SUM('1-15-⑤（基）'!I47,'1-15-⑤（プ）'!I47) -> 0 | H20: =SUM('1-15-⑤（基）'!K47,'1-15-⑤（プ）'!K47) -> 0 | I20: =SUM('1-15-⑤（基）'!P47,'1-15-⑤（プ）'!P47) -> 0 | J20: =SUM('1-15-⑤（基）'!R47,'1-15-⑤（プ）'!R47) -> 0 | K20: =SUM('1-15-⑤（基）'!T47,'1-15-⑤（プ）'!T47) -> 0 | L20: =SUM('1-15-⑤（基）'!Y47,'1-15-⑤（プ）'!Y47) -> 0 | M20: =SUM('1-15-⑤（基）'!AA47,'1-15-⑤（プ）'!AA47) -> 0 | N20: =SUM('1-15-⑤（基）'!AC47,'1-15-⑤（プ）'!AC47) -> 0
A21: ⑥ | C21: 交付申請額 | D21: 地方大学・地域産業創生交付金 | E21: =SUM(F21:N21) -> 0 | F21: ='1-15-⑥（基）'!H47 -> 0 | G21: ='1-15-⑥（基）'!J47 -> 0 | H21: ='1-15-⑥（基）'!L47 -> 0 | I21: ='1-15-⑥（基）'!Q47 -> 0 | J21: ='1-15-⑥（基）'!S47 -> 0 | K21: ='1-15-⑥（基）'!U47 -> 0 | L21: ='1-15-⑥（基）'!Z47 -> 0 | M21: ='1-15-⑥（基）'!AB47 -> 0 | N21: ='1-15-⑥（基）'!AD47 -> 0
D22: 新しい地方経済・生活環境創生交付金 | E22: =SUM(F22:N22) -> 0 | F22: ='1-15-⑥（プ）'!H47 -> 0 | G22: ='1-15-⑥（プ）'!J47 -> 0 | H22: ='1-15-⑥（プ）'!L47 -> 0 | I22: ='1-15-⑥（プ）'!Q47 -> 0 | J22: ='1-15-⑥（プ）'!S47 -> 0 | K22: ='1-15-⑥（プ）'!U47 -> 0 | L22: ='1-15-⑥（プ）'!Z47 -> 0 | M22: ='1-15-⑥（プ）'!AB47 -> 0 | N22: ='1-15-⑥（プ）'!AD47 -> 0
C23: 交付対象事業費 | E23: =SUM(F23:N23) -> 0 | F23: =SUM('1-15-⑥（基）'!G47,'1-15-⑥（プ）'!G47) -> 0 | G23: =SUM('1-15-⑥（基）'!I47,'1-15-⑥（プ）'!I47) -> 0 | H23: =SUM('1-15-⑥（基）'!K47,'1-15-⑥（プ）'!K47) -> 0 | I23: =SUM('1-15-⑥（基）'!P47,'1-15-⑥（プ）'!P47) -> 0 | J23: =SUM('1-15-⑥（基）'!R47,'1-15-⑥（プ）'!R47) -> 0 | K23: =SUM('1-15-⑥（基）'!T47,'1-15-⑥（プ）'!T47) -> 0 | L23: =SUM('1-15-⑥（基）'!Y47,'1-15-⑥（プ）'!Y47) -> 0 | M23: =SUM('1-15-⑥（基）'!AA47,'1-15-⑥（プ）'!AA47) -> 0 | N23: =SUM('1-15-⑥（基）'!AC47,'1-15-⑥（プ）'!AC47) -> 0
A24: 合計 | C24: 交付申請額 | D24: 地方大学・地域産業創生交付金（ⅰ） | E24: =SUM(E6,E9,E12,E15,E18,E21) -> 0 | F24: =SUM(F6,F9,F12,F15,F18,F21) -> 0 | G24: =SUM(G6,G9,G12,G15,G18,G21) -> 0 | H24: =SUM(H6,H9,H12,H15,H18,H21) -> 0 | I24: =SUM(I6,I9,I12,I15,I18,I21) -> 0 | J24: =SUM(J6,J9,J12,J15,J18,J21) -> 0 | K24: =SUM(K6,K9,K12,K15,K18,K21) -> 0 | L24: =SUM(L6,L9,L12,L15,L18,L21) -> 0 | ... N24: =SUM(N6,N9,N12,N15,N18,N21) -> 0
D25: 新しい地方経済・生活環境創生交付金 | E25: =SUM(E7,E10,E13,E16,E19,E22) -> 0 | F25: =SUM(F7,F10,F13,F16,F19,F22) -> 0 | G25: =SUM(G7,G10,G13,G16,G19,G22) -> 0 | H25: =SUM(H7,H10,H13,H16,H19,H22) -> 0 | I25: =SUM(I7,I10,I13,I16,I19,I22) -> 0 | J25: =SUM(J7,J10,J13,J16,J19,J22) -> 0 | K25: =SUM(K7,K10,K13,K16,K19,K22) -> 0 | L25: =SUM(L7,L10,L13,L16,L19,L22) -> 0 | ... N25: =SUM(N7,N10,N13,N16,N19,N22) -> 0
C26: 交付対象事業費（ⅲ） | E26: =SUM(E8,E11,E14,E17,E20,E23) -> 0 | F26: =SUM(F8,F11,F14,F17,F20,F23) -> 0 | G26: =SUM(G8,G11,G14,G17,G20,G23) -> 0 | H26: =SUM(H8,H11,H14,H17,H20,H23) -> 0 | I26: =SUM(I8,I11,I14,I17,I20,I23) -> 0 | J26: =SUM(J8,J11,J14,J17,J20,J23) -> 0 | K26: =SUM(K8,K11,K14,K17,K20,K23) -> 0 | L26: =SUM(L8,L11,L14,L17,L20,L23) -> 0 | ... N26: =SUM(N8,N11,N14,N17,N20,N23) -> 0
A27: ※事業項目、間接補助事業者の数に応じて行・列を適宜追加・削除ください。
A28: ※交付申請額の地方大学・地域産業創生交付金分の合計（ⅰ）は、様式１－３の最初の年度（シート９行目）の交付申請額（D）と同額になります。
A29: ※交付申請額の新しい地方経済・生活環境創生交付金分の合計（ⅱ）は、様式１－３の最初の年度（シート９行目）の交付申請額（F）と同額になります。
A30: ※交付対象事業費の合計（ⅲ）は、様式１－３の最初の年度（シート９行目）の交付申請額（A）と同額になります。
A31: ※内訳には、補助事業者、間接補助事業者に配分された金額の補助率ごとの金額を入力ください。

Sheet 1-5
A1: 様式1-5 事業費整理表（経費区分別）（令和●（202■）年度）（記入例）
O2: （単位：千円）
C3: 事業番号① | E3: 事業番号② | G3: 事業番号③ | I3: 事業番号④ | K3: 事業番号⑤ | M3: 事業番号⑥ | O3: 合計Ⅱ（交付対象事業費）
A5: 人件費・謝金 | C5: 200000 | E5: 50000 | G5: 10000 | I5: 10000 | O5: =SUM(C5:N6) -> 270000
B7: 内訳 | C7: トップレベル人材人件費 | D7: 50,000×４名 | E7: トップレベル人材人件費 | F7: 50,000×１名 | G7: 講師謝金 | H7: 1,000×10名 | I7: コーディネーター人件費 | J7: 5,000×２名
A8: 旅費 | C8: 50000 | E8: 25000 | G8: 50000 | I8: 30000 | O8: =SUM(C8:N9) -> 155000
A10: 施設整備経費 | C10: 100000 | E10: 0 | G10: 150000 | I10: 300000 | O10: =SUM(C10:N11) -> 550000
A12: 設備・物品費 | C12: 30000 | E12: 150000 | G12: 30000 | I12: 10000 | O12: =SUM(C12:N13) -> 220000
A14: その他 | C14: 20000 | E14: 25000 | G14: 10000 | I14: 50000 | O14: =SUM(C14:N15) -> 105000
A16: 合計Ⅰ（交付対象事業費） | C16: =SUM(C5,C8:D15) -> 400000 | E16: =SUM(E5,E8:F15) -> 250000 | G16: =SUM(G5,G8:H15) -> 250000 | I16: =SUM(I5,I8:J15) -> 400000 | K16: =SUM(K5,K8:L15) -> 0 | M16: =SUM(M5,M8:N15) -> 0 | O16: =SUM(O5,O8:P15) -> 1300000
A18: ※合計Ⅰ（交付対象事業費）は、様式1-3の事業番号毎の交付対象事業費の合計額と同額になります。
A19: ※設備整備経費には、「施設整備計画」で記入する施設整備のみに要する経費を記載してください。
A20: ※設備・物品費には、設備、研究機器、備品、消耗品、資材、部品等の施設整備以外に要する費用を記載してください。

Sheet 1-6
BB1: ■外形評価カウント | BF1: =#REF! -> #REF! | BG1: =#REF! -> #REF! | BH1: =#REF! -> #REF! | BI1: =#REF! -> #REF! | BJ1: =#REF! -> #REF!
A2: 様式1-6 令和●（202■）年度地方大学・地域産業創生交付金実施計画整備対象施設の施設整備計画 | BB2: 評価○ | BC2: 評価△ | BD2: 評価× | BI2: 単 | BJ2: 共
BB3: =COUNTIF($BF$1:$BJ$1,"○") -> 0 | BC3: =COUNTIF($BF$1:$BJ$1,"△") -> 0 | BD3: =COUNTIF($BF$1:$BJ$1,"×") -> 0
A4: １．施設整備計画等の概要
B6: （1）施設の名称
B9: （2）施設の場所
C10: ※整備する施設の位置図を別途添付して提出してください。
B12: （3）施設整備の実施期間
C13: ① 全体 | F13: 令和 | J13: 年 | N13: 月 | P13: ～ | R13: 令和 | V13: 年 | Z13: 月
C15: ② 対象 | F15: 令和 | J15: 年 | N15: 月 | P15: ～ | R15: 令和 | V15: 年 | Z15: 月
C16: ※「全体」はその他の補助金等を用いて整備する期間も含む施設整備の全実施期間を記載ください。
C17: ※「対象」は地方大学・地域産業創生交付金を充てて整備する部分の実施期間を記載ください。
C19: ③ 「全体」と「対象」の期間が異なる理由（①と②の終了時期が異なる場合のみ記載）
B22: （4）施設の目的・実施予定の事業等
C23: ※収入が発生する事業については、収入の内容（レンタルオフィスの使用料等）やその規模についても明確に記載してください。
B25: （5）施設の利活用方策等
C26: ①KPIの達成に当該施設整備が必要不可欠である理由
C27: 施設整備がKPIにどの程度寄与するのか、数字を用いて根拠を示すとともに、本施設を整備しなければKPIが達成できない理由を記載ください。
C31: ②施設等の利活用方策
C32: 地方大学・地域産業創生交付金の必要性が分かるよう、簡潔に記載してください。
A36: ２．施設の所有主体等
B38: （1）施設の所有主体及び管理主体 | AI38: （単位：千円）
C39: 所有者 | I39: 管理者 | O39: 交付対象事業費 （交付申請以前） | T39: 交付対象事業費 （令和●(202■)年度） | Y39: 交付対象事業費 （実施計画2年目以降） | AD39: 交付対象事業費 （総額） | AJ39: 代表
AJ40: ○
C44: 合計 | O44: =SUM(O40:S43) -> 0 | T44: =SUM(T40:X43) -> 0 | Y44: =SUM(Y40:AC43) -> 0 | AD44: =SUM(AD40:AI43) -> 0
B46: （2）施設の所有者等（地方公共団体以外の主体（第三セクター等も含む）が施設の所有者である場合のみ記入）
C47: 所有者
C49: 地方公共団体の出資比率
C51: ※地方公共団体からの出資がない場合には、「地方公共団体からの出資比率」欄を空欄とし、(3)民間賃借の有無を「該当あり」もしくは「該当あり（一部賃借）」を選択してください。
B54: （3-1）民間賃借の有無
C55: 該当区分
B57: （3-2）民間賃借の条件等（（3-1）で「該当あり」又は「該当あり（一部賃借）」を選択した場合のみ記入）
C58: 内容 | AJ58: 該当
C59: 条例により公共性のある施設（「公の施設」、「公共施設」、「公用施設」等）として位置づけているか
C60: 賃貸借契約や覚書等により長期・安定的に利用する体制が整備されているか
A62: ３．施設整備の概要等 | BB62: 施設整備
B64: （1）施設整備の内容 | AK64: （単位：千円） | BB64: Ｂ
C65: 区 分 | F65: 整備内容の説明 | P65: 金 額 | X65: 経費内訳
P66: 全体 | T66: 対象
F67: 【□□□□□□】 【□□□□□□□□□】 【□□□□□□】 | X67: 【□□□□□□】 xx,xxx千円 ・○○○○○○○○○ xx,xxx千円 ・○○○○○○○○○○ x,xxx千円 ・○○○○○○○ x,xxx千円 【□□□□□□□□□】 x,xxx千円 ・○○○○○○○○ xxx千円 ・○○○○○○○ xxx千円 【□□□□□□】 x,xxx千円 ・○○○○○○○○ xxx千円 ・○○○○○○○ xxx千円 【合計】 xx,xxx千円
...

Sheet 1-7
B2: 様式1-7 計画に参画する地方公共団体の負担見込み
B4: 地方公共団体名
B6: 年度 | C6: 負担概算額 合計（千円） | D6: 事業名 | E6: 負担概算額 （千円） | F6: 事業概要 | G6: 計画との関係について
B7: ● (202■) | D7: 交付対象事業 地方負担分（補助裏）
B9: ○ (202□) | D9: 交付対象事業 地方負担分（補助裏）
B11: ○ (202□) | D11: 交付対象事業 地方負担分（補助裏）
B13: ○ (202□) | D13: 交付対象事業 地方負担分（補助裏）
B15: ○ (202□) | D15: 交付対象事業 地方負担分（補助裏）
B17: ○ (202□)
B19: ○ (202□)
B21: ○ (202□)
B23: ○ (202□)
B25: ○ (202□)
B28: ※年度は、最初の交付年度を基準として、「和暦(西暦)」で記載ください（事業数に応じて、適宜行を追加ください）。 ※本様式には、地方公共団体が負担して行う事業の負担概算額（見込み額）について記載ください。 ※交付対象事業の地方負担分（様式１－３の(A)の額から(B)の額を引いたもの）に加え、計画に位置づける地方単独事業について、事業概要及び計画との関係を具体的に記載ください。 ※本様式の負担概算額（C列）については、様式１－３の地方公共団体(関連単独事業含む)(G)へ転記ください。 ※本様式の支援期間中の「交付対象事業 地方負担分（補助裏）」（E列・グレーのセル）については、様式１－３の(A)の額から(B)の額を引いた額を記載ください。

Sheet 1-8
B2: 様式1-8 計画に参画する大学の負担見込み
B4: 地方公共団体名
B5: ○○大学
B6: ○○年度
B8: 事業番号 | C8: 交付金による 補助（委託）額 (千円） | D8: （内訳） | F8: 自主財源による 執行概算額 （千円） | G8: （内訳）
D9: 主な内容 | E9: 金額（千円） | G9: 主な内容 | H9: 金額（千円）
B10: 実施計画上の 事業番号を記載 | C10: =SUM(E10:E14) -> 0 | D10: ・ | F10: =SUM(H10:H14) -> 0 | G10: ・
D11: ・ | G11: ・
D12: ・ | G12: ・
D13: ・ | G13: ・
D14: ・ | G14: ・
C15: =SUM(E15:E19) -> 0 | D15: ・ | F15: =SUM(H15:H19) -> 0 | G15: ・
D16: ・ | G16: ・
D17: ・ | G17: ・
D18: ・ | G18: ・
D19: ・ | G19: ・
C20: =SUM(E20:E24) -> 0 | D20: ・ | F20: =SUM(H20:H24) -> 0 | G20: ・
D21: ・ | G21: ・
D22: ・ | G22: ・
D23: ・ | G23: ・
D24: ・ | G24: ・
B25: 計 | C25: =SUM(C10:C24) -> 0 | F25: =SUM(F10:F24) -> 0
B27: ※大学毎、年度毎に作成ください。 ※実施計画記載の、本交付金を充てて行う事業であって、大学が地方公共団体から補助・委託等を受ける事業及び額（自主財源によらない額）を、それぞれ（D）列と（E）列に記載ください。 ※実施計画に記載の事業を実施するにあたり必要な経費であって、大学が自主財源により執行する事業及び概算額（見込み額）を、それぞれ（G）列と（H）列に記載ください。例えば、 ・学長裁量経費等により雇用する教職員・研究者の人件費や教育研究プロジェクトの実施に充てる経費 ・既存の教職員・研究者のエフォートの全部又は一部を当該事業の実施に充てる場合の当該エフォート相当の人件費（当該人材の氏名・職階を記載の上、当該エフォートにより従事する職務の具体的内容もあわせて記載） ・その他、大学が負担する経費（施設設備の整備・改修・維持費、備品、消耗品、借料費、光熱水費、通信費等） を想定しています。各大学が自主財源（本交付金その他国の補助金が充てられているものを除いてください。ただし、国立大学法人運営費交付金や私立大学等経常費補助金など、経常費への補助を充てるものについては、本様式では自主財源と整理の上、記載ください）によって手当する額を算出の上、記載ください。 ※概算額の算定に当たって、未定の事項については、現時点での想定に基づくもので構いませんので、可能な限り概算額を記載ください（実施計画の自立性や、大学組織改革の実現可能性及び実効性等を確認する観点からは、可能な限り本様式に情報を記載いただくことが望ましいです）。 ※国費支援期間終了後、交付金による補助（委託）額は記載不要です。 ※各年度において、全大学の合計額を、様式１－３の大学(自己財源分)(H)へ転記ください。

Sheet 1-9
B3: 様式1-9 計画に参画する事業者等の負担見込み
O4: ○
B5: 地方公共団体名 | O5: －
B7: 番 号 | C7: 関連 事業 番号 | D7: 実施計画 記載有無 | E7: 実施年度 | F7: 事業者等名 | G7: 事業概要及び実施計画との関連性 | H7: 他機関（地方公共団体、大学、事業者等） との連携内容 | I7: 負担概算額 （千円） | J7: 内訳 | L7: 備考
J8: 主な内容 | K8: 金額
B9: 1 | I9: =SUM(K9:K11) -> 0
B12: 2 | I12: =SUM(K12:K14) -> 0
B15: 3 | I15: =SUM(K15:K17) -> 0
B18: 4 | I18: =SUM(K18:K20) -> 0
B21: 5 | I21: =SUM(K21:K23) -> 0
B25: ※本様式の記載対象項目は、次の通りです。 ・実施計画の内容に関連して、事業者等が実施する予定の設備投資、研究開発、人材育成等の事業のうち、他機関（地方公共団体、大学、事業者等）との連携により行うものについて、負担額を記載ください。 （例①：共同研究事業や寄附講座等において、大学に拠出する研究費や、（人材交流を行う場合の）人件費相当額等） （例②：事業者等において自主的に設備投資や研究開発等を行う場合において、個社のクローズドなものではなく、何らかの形で他機関と連携して行うものについて、当該連携に係る実質的な負担額） （例③：実施計画に記載の事業において、地方公共団体から事業者等が補助を受ける際の補助裏や、補助（又は委託）事業を行う上で事業者等が実質的に負担する額（人件費相当額、施設設備の整備・改修・維持費、備品、消耗品、借料費等）） ※「関連事業番号」（Ｃ列）には、実施計画本体等に記載の事業のうち、最も関連が深い事業の番号を記載ください。 ※「実施計画記載有無」（Ｄ列）には、実施計画本体において記載のある事業であれば、「○」を、実施計画本体に記載が無い事業であれば「－」を選択ください。 ※「実施年度」（Ｅ列）には、計画期間中において、単年度又は複数年度で記載ください。 ※「事業概要及び実施計画との関連性」（Ｇ列）及び「他機関（地方公共団体、大学、事業者等）との連携内容」（Ｈ列）について、具体的に記載ください。 ※事業者等が自己財源により負担する見込みである上記経費の主な内容及び概算額（見込み額）を、それぞれ（J）列と（K）列に記載ください。実施計画の自立性や、産学官連携の実効性等を確認する観点から、現時点での想定に基づくもので構いませんので、可能な限り本様式に記載いただくことが望ましいです。 ※各年度における合計額を、様式1－3の事業者等(自己財源分)(I)へ転記ください。

Sheet 1-10
B2: 様式1-10 既存の補助金等の申請・採択実績 (直近3年程度)
B4: No, | C4: 関連事業番号 【複数記載可】 | D4: 申請年度 | E4: 補助金 所管官庁 | F4: 補助金等名 | G4: 申請内容 | H4: 採択 結果 | I4: 支援期間 | J4: 補助額 | K4: 本交付金との整理
B6: 1 | M6: ○
B7: 2 | M7: ×
B8: 3
B9: 4
B10: 5
B11: 6
B12: 7
B13: 【記入上の注意】 ※計画に関連する事業に関して、これまでの補助金等の申請・採択実績について記載。「関連事業番号」（Ｃ列）には、実施計画本体等に記載の事業のうち、関連する事業の番号を記載ください。 ※採択された事業については、支援期間、補助額、本計画との整理（既存の補助金等の単なる延長でないこと）について記載ください。 ※不採択とされた事業については、本計画との整理（不採択の理由及び本計画申請に際しての改善状況）について可能な範囲で記載ください。 ※直近３年程度に申請し、支援を受けていた（支援を受けている）ものを記載ください。 ※件数に応じて、適宜行を追加して記載ください。

Sheet 1-11
B3: 様式1-11 事業責任者略歴等
B5: 氏名
B6: 生年月日 | C6: ○○○○年○月○日（●歳）
B7: 所属機関・部署・役職
B8: 略歴
B12: その他特筆すべき活動歴 | C12: ※本計画に関わる特記事項があれば任意で記入ください。
B13: 選定理由
B14: 【記入上の注意】 ※記載にあたり、本人の内諾を得てください。 ※令和８年４月１日時点の年齢を記載ください。 ※旧姓記載を希望する場合、氏名欄には旧姓を括弧書きで併記してください。

Sheet 1-12
B3: 様式1-12 中心研究者略歴等
B5: 担当事業番号・事業名
B6: 氏名
B7: 生年月日 | C7: ○○○○年○月○日（●歳）
B8: 所属機関・部署・役職
B9: 専門分野
B10: 略歴及び 研究・開発経歴
B13: その他特記すべき活動歴 | C13: ※本計画に関わる特記事項があれば任意で記入ください。
B14: 選定理由
B15: 採択後のエフォート | C15: ％（予定）
B16: 【記入上の注意】 ※実施計画本体等に記載の事業毎に中心研究者が異なる場合は、それぞれの事業における中心研究者について別葉で作成ください。 ※担当事業番号・事業名には、実施計画本体上の事業番号と事業名を記載ください。 ※外部の機関から招へいする場合は、本人の内諾を得るとともに、当該機関とも必要な調整を行った上で記載してください。 ※令和８年４月１日時点の年齢を記載ください。 ※旧姓記載を希望する場合、氏名欄には旧姓を括弧書きで併記してください。

Sheet 1-13
B3: 様式1-13 招へいするトップレベル人材候補
B5: 担当事業番号・事業名
B6: 氏名
B7: 生年月日 | C7: ○○○○年○月○日（●歳）
B8: 所属機関・部署・役職
B9: 専門分野
B10: 略歴及び 研究・開発経歴
B13: 雇用形態 | C13: クロスアポイント等の雇用形態の別 （クロスアポイントの場合には本計画で雇用する期間、エフォートも記載。特任の場合はその旨を記載）
B14: トップレベル人材と認められる実績 | C14: 論文引用度、外部資金獲得実績、受賞歴、（海外人材の場合）所属機関の世界大学ランキング等
B15: トップレベル人材として求められる役割
B16: 選定理由
B17: 本人及びトップレベル人材が所属する機関との調整状況 | C17: 本人の内諾有無、トップレベル人材が現在所属する機関との調整状況等について記入 （本人の内諾やトップレベル人材が現在所属する機関との調整は必須ではないが、状況の確認のため記入すること）
B18: 【記入上の注意】 ※実施計画本体等に記載の事業毎にトップレベル人材が異なる場合、事業毎に複数人の候補者がいる場合は別葉で作成ください。 ※令和８年４月１日時点の年齢を記載ください。 ※選定理由には、本計画との関連性や目標実現に不可欠な理由等について記載ください。 ※旧姓記載を希望する場合、氏名欄には旧姓を括弧書きで併記してください。

Sheet 1-14
B2: 様式1-14 160万円を超える設備・研究機器等の一覧
B4: 年度 | C4: 事業 番号 | D4: 名称 | E4: 導入先 | F4: 購入概算額（千円） （交付申請額分） | G4: 設備・研究機器等の概要 | H4: KPI達成に必要不可欠な理由 (重複購入を行う場合、その理由を含む) | I4: 重複の有無 | J4: 見積等取得先 | K4: 見積額（千円） | L4: 入札予定の有無 | M4: （随意契約とする予定の場合）随意契約とする理由及び契約予定価格の合理性
M5: ※各機関の基準に従って随意契約する場合は、その旨記載してください。 | P5: 有 | Q5: ○
P6: 無 | Q6: -
B12: ※交付対象として導入する160万円を超える設備・研究機器等（施設整備計画に記載の施設の整備分を除く。ただし、施設整備計画に記載の施設整備にあわせて導入する設備・研究機器等については要記載。）について、当該設備・研究機器等の導入年度、事業番号（実施計画③より転記）、名称、導入先、購入概算額（及び交付申請額分）、概要、KPI達成に必要不可欠な理由、（推進会議の他の参画機関が既に保有する設備・研究機器等との）重複の有無、見積等取得に関する事項、入札予定の有無、（随意契約とする予定の場合）随意契約とする理由及び契約予定価格の合理性について、記載ください。 ※購入概算額の欄については、同一セル内で改行し、上段に購入概算額を、下段に交付申請額分を括弧にて記載ください。（例：20,000千円の研究機器を大学に導入するものとして、交付金の（国から地方公共団体への）交付率１／２、地方公共団体から大学への補助率４／５とする場合、上段には「20,000」、下段には「（8,000）」と記入。） ※KPI達成に必要不可欠な理由については、できるだけ具体的に記載ください。KPIとの関連が不明確なものについては、交付が認められない場合があります。 ※新規購入に先立ち、推進会議の他の参画機関が既に保有する設備・研究機器等の共用の可能性について確認の上、重複の有無の欄で回答ください。重複「有」の場合、新規購入が必要な特段の理由について、KPI達成に必要不可欠な理由の欄に記載ください。 ※設備等の購入に先立ち、１社以上から見積りを取得し、見積額について記載ください。審査の過程で、見積書の提出を求める場合があります。また、実績報告時には複数社からの見積等取得の状況について確認をする予定です。 ※設備・研究機器等の購入については、各機関における基準に従い、適正な予算執行となるよう十分に留意してください。入札を行わず、随意契約とする場合、理由及び契約予定価格の合理性について記載ください。

Sheet 1-15-①（基）
C3: 様式1-15 各事業詳細
C5: 地方公共団体名：
C6: 年度： | D6: 令和●（202■）
C7: 事業番号： | D7: ① | E7: 区分： | F7: 基盤構築分
C8: 事業名：
AC9: （単位）千円
C10: 経費区分 | D10: 合計 | F10: 内訳
F11: 補助事業者執行分 | M11: 間接補助分
M12: 間接補助事業者①の執行分 | V12: 間接補助事業者②の執行分
M13: 【機関名】 | V13: 【機関名】
F14: 経費区分 | G14: 交付率：1/2 | I14: 交付率：2/3 | K14: 交付率：3/4 | M14: 経費区分 | N14: 間①執行額 | O14: 間接補助率 | P14: 交付率：1/2 | R14: 交付率：2/3 | T14: 交付率：3/4 | V14: 経費区分 | W14: 間①執行額 | X14: 間接補助率 | Y14: 交付率：1/2 | AA14: 交付率：2/3 | AC14: 交付率：3/4
D15: 交付対象 事業費 | G15: 交付対象 事業費 | I15: 交付対象 事業費 | K15: 交付対象 事業費 | P15: 間接補 助額 | R15: 間接補 助額 | T15: 間接補 助額 | Y15: 間接補 助額 | AA15: 間接補 助額 | AC15: 間接補 助額
E16: 交付申請額 | H16: 交付申請額 | J16: 交付申請額 | L16: 交付申請額 | Q16: 国費ベース | S16: 国費ベース | U16: 国費ベース | Z16: 国費ベース | AB16: 国費ベース | AD16: 国費ベース
C17: 【人件費・謝金】 | D17: =SUM(D18:D22) -> 0 | E17: =SUM(E18:E22) -> 0 | F17: 【人件費・謝金】 | G17: =SUM(G18:G22) -> 0 | H17: =SUM(H18:H22) -> 0 | I17: =SUM(I18:I22) -> 0 | J17: =SUM(J18:J22) -> 0 | K17: =SUM(K18:K22) -> 0 | L17: =SUM(L18:L22) -> 0 | M17: 【人件費・謝金】 | N17: =SUM(N18:N22) -> 0 | P17: =SUM(P18:P22) -> 0 | Q17: =SUM(Q18:Q22) -> 0 | R17: =SUM(R18:R22) -> 0 | S17: =SUM(S18:S22) -> 0 | T17: =SUM(T18:T22) -> 0 | U17: =SUM(U18:U22) -> 0 | V17: 【人件費・謝金】 | W17: =SUM(W18:W22) -> 0 | Y17: =SUM(Y18:Y22) -> 0 | Z17: =SUM(Z18:Z22) -> 0 | AA17: =SUM(AA18:AA22) -> 0 | AB17: =SUM(AB18:AB22) -> 0 | AC17: =SUM(AC18:AC22) -> 0 | AD17: =SUM(AD18:AD22) -> 0
C23: 【旅費】 | D23: =SUM(D24:D28) -> 0 | E23: =SUM(E24:E28) -> 0 | F23: 【旅費】 | G23: =SUM(G24:G28) -> 0 | H23: =SUM(H24:H28) -> 0 | I23: =SUM(I24:I28) -> 0 | J23: =SUM(J24:J28) -> 0 | K23: =SUM(K24:K28) -> 0 | L23: =SUM(L24:L28) -> 0 | M23: 【旅費】 | N23: =SUM(N24:N28) -> 0 | P23: =SUM(P24:P28) -> 0 | Q23: =SUM(Q24:Q28) -> 0 | R23: =SUM(R24:R28) -> 0 | S23: =SUM(S24:S28) -> 0 | T23: =SUM(T24:T28) -> 0 | U23: =SUM(U24:U28) -> 0 | V23: 【旅費】 | W23: =SUM(W24:W28) -> 0 | Y23: =SUM(Y24:Y28) -> 0 | Z23: =SUM(Z24:Z28) -> 0 | AA23: =SUM(AA24:AA28) -> 0 | AB23: =SUM(AB24:AB28) -> 0 | AC23: =SUM(AC24:AC28) -> 0 | AD23: =SUM(AD24:AD28) -> 0
C29: 【施設整備経費】 | D29: =SUM(D30:D34) -> 0 | E29: =SUM(E30:E34) -> 0 | F29: 【施設整備経費】 | G29: =SUM(G30:G34) -> 0 | H29: =SUM(H30:H34) -> 0 | I29: =SUM(I30:I34) -> 0 | J29: =SUM(J30:J34) -> 0 | K29: =SUM(K30:K34) -> 0 | L29: =SUM(L30:L34) -> 0 | M29: 【施設整備経費】 | N29: =SUM(N30:N34) -> 0 | P29: =SUM(P30:P34) -> 0 | Q29: =SUM(Q30:Q34) -> 0 | R29: =SUM(R30:R34) -> 0 | S29: =SUM(S30:S34) -> 0 | T29: =SUM(T30:T34) -> 0 | U29: =SUM(U30:U34) -> 0 | V29: 【施設整備経費】 | W29: =SUM(W30:W34) -> 0 | Y29: =SUM(Y30:Y34) -> 0 | Z29: =SUM(Z30:Z34) -> 0 | AA29: =SUM(AA30:AA34) -> 0 | AB29: =SUM(AB30:AB34) -> 0 | AC29: =SUM(AC30:AC34) -> 0 | AD29: =SUM(AD30:AD34) -> 0
C35: 【設備・物品費】 | D35: =SUM(D36:D40) -> 0 | E35: =SUM(E36:E40) -> 0 | F35: 【設備・物品費】 | G35: =SUM(G36:G40) -> 0 | H35: =SUM(H36:H40) -> 0 | I35: =SUM(I36:I40) -> 0 | J35: =SUM(J36:J40) -> 0 | K35: =SUM(K36:K40) -> 0 | L35: =SUM(L36:L40) -> 0 | M35: 【設備・物品費】 | N35: =SUM(N36:N40) -> 0 | P35: =SUM(P36:P40) -> 0 | Q35: =SUM(Q36:Q40) -> 0 | R35: =SUM(R36:R40) -> 0 | S35: =SUM(S36:S40) -> 0 | T35: =SUM(T36:T40) -> 0 | U35: =SUM(U36:U40) -> 0 | V35: 【設備・物品費】 | W35: =SUM(W36:W40) -> 0 | Y35: =SUM(Y36:Y40) -> 0 | Z35: =SUM(Z36:Z40) -> 0 | AA35: =SUM(AA36:AA40) -> 0 | AB35: =SUM(AB36:AB40) -> 0 | AC35: =SUM(AC36:AC40) -> 0 | AD35: =SUM(AD36:AD40) -> 0
C41: 【その他】 | D41: =SUM(D42:D46) -> 0 | E41: =SUM(E42:E46) -> 0 | F41: 【その他】 | G41: =SUM(G42:G46) -> 0 | H41: =SUM(H42:H46) -> 0 | I41: =SUM(I42:I46) -> 0 | J41: =SUM(J42:J46) -> 0 | K41: =SUM(K42:K46) -> 0 | L41: =SUM(L42:L46) -> 0 | M41: 【その他】 | N41: =SUM(N42:N46) -> 0 | P41: =SUM(P42:P46) -> 0 | Q41: =SUM(Q42:Q46) -> 0 | R41: =SUM(R42:R46) -> 0 | S41: =SUM(S42:S46) -> 0 | T41: =SUM(T42:T46) -> 0 | U41: =SUM(U42:U46) -> 0 | V41: 【その他】 | W41: =SUM(W42:W46) -> 0 | Y41: =SUM(Y42:Y46) -> 0 | Z41: =SUM(Z42:Z46) -> 0 | AA41: =SUM(AA42:AA46) -> 0 | AB41: =SUM(AB42:AB46) -> 0 | AC41: =SUM(AC42:AC46) -> 0 | AD41: =SUM(AD42:AD46) -> 0
C47: 小計 | D47: =SUM(D17,D23,D29,D35,D41) -> 0 | E47: =SUM(E17,E23,E29,E35,E41) -> 0 | F47: 小計 | G47: =SUM(G17,G23,G29,G35,G41) -> 0 | H47: =SUM(H17,H23,H29,H35,H41) -> 0 | I47: =SUM(I17,I23,I29,I35,I41) -> 0 | J47: =SUM(J17,J23,J29,J35,J41) -> 0 | K47: =SUM(K17,K23,K29,K35,K41) -> 0 | L47: =SUM(L17,L23,L29,L35,L41) -> 0 | M47: 小計 | N47: =SUM(N17,N23,N29,N35,N41) -> 0 | P47: =SUM(P17,P23,P29,P35,P41) -> 0 | Q47: =SUM(Q17,Q23,Q29,Q35,Q41) -> 0 | R47: =SUM(R17,R23,R29,R35,R41) -> 0 | S47: =SUM(S17,S23,S29,S35,S41) -> 0 | T47: =SUM(T17,T23,T29,T35,T41) -> 0 | U47: =SUM(U17,U23,U29,U35,U41) -> 0 | V47: 小計 | W47: =SUM(W17,W23,W29,W35,W41) -> 0 | Y47: =SUM(Y17,Y23,Y29,Y35,Y41) -> 0 | Z47: =SUM(Z17,Z23,Z29,Z35,Z41) -> 0 | AA47: =SUM(AA17,AA23,AA29,AA35,AA41) -> 0 | AB47: =SUM(AB17,AB23,AB29,AB35,AB41) -> 0 | AC47: =SUM(AC17,AC23,AC29,AC35,AC41) -> 0 | AD47: =SUM(AD17,AD23,AD29,AD35,AD41) -> 0
C49: （交付率2/3、3/4を適用する場合）当該交付率が該当する理由
C55: ※記入上の注意については、実施計画の記載要領を参照。
C66: 基盤構築分 | D66: プロジェクト実施分

Sheet 1-15-①（プ）
C3: 様式1-15 各事業詳細
C5: 地方公共団体名：
C6: 年度： | D6: 令和●（202■）
C7: 事業番号： | D7: ① | E7: 区分： | F7: プロジェクト実施分
C8: 事業名：
AC9: （単位）千円
C10: 経費区分 | D10: 合計 | F10: 内訳
F11: 補助事業者執行分 | M11: 間接補助分
M12: 間接補助事業者①の執行分 | V12: 間接補助事業者②の執行分
M13: 【機関名】 | V13: 【機関名】
F14: 経費区分 | G14: 交付率：1/2 | I14: 交付率：2/3 | K14: 交付率：3/4 | M14: 経費区分 | N14: 間①執行額 | O14: 間接補助率 | P14: 交付率：1/2 | R14: 交付率：2/3 | T14: 交付率：3/4 | V14: 経費区分 | W14: 間①執行額 | X14: 間接補助率 | Y14: 交付率：1/2 | AA14: 交付率：2/3 | AC14: 交付率：3/4
D15: 交付対象 事業費 | G15: 交付対象 事業費 | I15: 交付対象 事業費 | K15: 交付対象 事業費 | P15: 間接補 助額 | R15: 間接補 助額 | T15: 間接補 助額 | Y15: 間接補 助額 | AA15: 間接補 助額 | AC15: 間接補 助額
E16: 交付申請額 | H16: 交付申請額 | J16: 交付申請額 | L16: 交付申請額 | Q16: 国費ベース | S16: 国費ベース | U16: 国費ベース | Z16: 国費ベース | AB16: 国費ベース | AD16: 国費ベース
C17: 【人件費・謝金】 | D17: =SUM(D18:D22) -> 0 | E17: =SUM(E18:E22) -> 0 | F17: 【人件費・謝金】 | G17: =SUM(G18:G22) -> 0 | H17: =SUM(H18:H22) -> 0 | I17: =SUM(I18:I22) -> 0 | J17: =SUM(J18:J22) -> 0 | K17: =SUM(K18:K22) -> 0 | L17: =SUM(L18:L22) -> 0 | M17: 【人件費・謝金】 | N17: =SUM(N18:N22) -> 0 | P17: =SUM(P18:P22) -> 0 | Q17: =SUM(Q18:Q22) -> 0 | R17: =SUM(R18:R22) -> 0 | S17: =SUM(S18:S22) -> 0 | T17: =SUM(T18:T22) -> 0 | U17: =SUM(U18:U22) -> 0 | V17: 【人件費・謝金】 | W17: =SUM(W18:W22) -> 0 | Y17: =SUM(Y18:Y22) -> 0 | Z17: =SUM(Z18:Z22) -> 0 | AA17: =SUM(AA18:AA22) -> 0 | AB17: =SUM(AB18:AB22) -> 0 | AC17: =SUM(AC18:AC22) -> 0 | AD17: =SUM(AD18:AD22) -> 0
C23: 【旅費】 | D23: =SUM(D24:D28) -> 0 | E23: =SUM(E24:E28) -> 0 | F23: 【旅費】 | G23: =SUM(G24:G28) -> 0 | H23: =SUM(H24:H28) -> 0 | I23: =SUM(I24:I28) -> 0 | J23: =SUM(J24:J28) -> 0 | K23: =SUM(K24:K28) -> 0 | L23: =SUM(L24:L28) -> 0 | M23: 【旅費】 | N23: =SUM(N24:N28) -> 0 | P23: =SUM(P24:P28) -> 0 | Q23: =SUM(Q24:Q28) -> 0 | R23: =SUM(R24:R28) -> 0 | S23: =SUM(S24:S28) -> 0 | T23: =SUM(T24:T28) -> 0 | U23: =SUM(U24:U28) -> 0 | V23: 【旅費】 | W23: =SUM(W24:W28) -> 0 | Y23: =SUM(Y24:Y28) -> 0 | Z23: =SUM(Z24:Z28) -> 0 | AA23: =SUM(AA24:AA28) -> 0 | AB23: =SUM(AB24:AB28) -> 0 | AC23: =SUM(AC24:AC28) -> 0 | AD23: =SUM(AD24:AD28) -> 0
C29: 【施設整備経費】 | D29: =SUM(D30:D34) -> 0 | E29: =SUM(E30:E34) -> 0 | F29: 【施設整備経費】 | G29: =SUM(G30:G34) -> 0 | H29: =SUM(H30:H34) -> 0 | I29: =SUM(I30:I34) -> 0 | J29: =SUM(J30:J34) -> 0 | K29: =SUM(K30:K34) -> 0 | L29: =SUM(L30:L34) -> 0 | M29: 【施設整備経費】 | N29: =SUM(N30:N34) -> 0 | P29: =SUM(P30:P34) -> 0 | Q29: =SUM(Q30:Q34) -> 0 | R29: =SUM(R30:R34) -> 0 | S29: =SUM(S30:S34) -> 0 | T29: =SUM(T30:T34) -> 0 | U29: =SUM(U30:U34) -> 0 | V29: 【施設整備経費】 | W29: =SUM(W30:W34) -> 0 | Y29: =SUM(Y30:Y34) -> 0 | Z29: =SUM(Z30:Z34) -> 0 | AA29: =SUM(AA30:AA34) -> 0 | AB29: =SUM(AB30:AB34) -> 0 | AC29: =SUM(AC30:AC34) -> 0 | AD29: =SUM(AD30:AD34) -> 0
C35: 【設備・物品費】 | D35: =SUM(D36:D40) -> 0 | E35: =SUM(E36:E40) -> 0 | F35: 【設備・物品費】 | G35: =SUM(G36:G40) -> 0 | H35: =SUM(H36:H40) -> 0 | I35: =SUM(I36:I40) -> 0 | J35: =SUM(J36:J40) -> 0 | K35: =SUM(K36:K40) -> 0 | L35: =SUM(L36:L40) -> 0 | M35: 【設備・物品費】 | N35: =SUM(N36:N40) -> 0 | P35: =SUM(P36:P40) -> 0 | Q35: =SUM(Q36:Q40) -> 0 | R35: =SUM(R36:R40) -> 0 | S35: =SUM(S36:S40) -> 0 | T35: =SUM(T36:T40) -> 0 | U35: =SUM(U36:U40) -> 0 | V35: 【設備・物品費】 | W35: =SUM(W36:W40) -> 0 | Y35: =SUM(Y36:Y40) -> 0 | Z35: =SUM(Z36:Z40) -> 0 | AA35: =SUM(AA36:AA40) -> 0 | AB35: =SUM(AB36:AB40) -> 0 | AC35: =SUM(AC36:AC40) -> 0 | AD35: =SUM(AD36:AD40) -> 0
C41: 【その他】 | D41: =SUM(D42:D46) -> 0 | E41: =SUM(E42:E46) -> 0 | F41: 【その他】 | G41: =SUM(G42:G46) -> 0 | H41: =SUM(H42:H46) -> 0 | I41: =SUM(I42:I46) -> 0 | J41: =SUM(J42:J46) -> 0 | K41: =SUM(K42:K46) -> 0 | L41: =SUM(L42:L46) -> 0 | M41: 【その他】 | N41: =SUM(N42:N46) -> 0 | P41: =SUM(P42:P46) -> 0 | Q41: =SUM(Q42:Q46) -> 0 | R41: =SUM(R42:R46) -> 0 | S41: =SUM(S42:S46) -> 0 | T41: =SUM(T42:T46) -> 0 | U41: =SUM(U42:U46) -> 0 | V41: 【その他】 | W41: =SUM(W42:W46) -> 0 | Y41: =SUM(Y42:Y46) -> 0 | Z41: =SUM(Z42:Z46) -> 0 | AA41: =SUM(AA42:AA46) -> 0 | AB41: =SUM(AB42:AB46) -> 0 | AC41: =SUM(AC42:AC46) -> 0 | AD41: =SUM(AD42:AD46) -> 0
C47: 小計 | D47: =SUM(D17,D23,D29,D35,D41) -> 0 | E47: =SUM(E17,E23,E29,E35,E41) -> 0 | F47: 小計 | G47: =SUM(G17,G23,G29,G35,G41) -> 0 | H47: =SUM(H17,H23,H29,H35,H41) -> 0 | I47: =SUM(I17,I23,I29,I35,I41) -> 0 | J47: =SUM(J17,J23,J29,J35,J41) -> 0 | K47: =SUM(K17,K23,K29,K35,K41) -> 0 | L47: =SUM(L17,L23,L29,L35,L41) -> 0 | M47: 小計 | N47: =SUM(N17,N23,N29,N35,N41) -> 0 | P47: =SUM(P17,P23,P29,P35,P41) -> 0 | Q47: =SUM(Q17,Q23,Q29,Q35,Q41) -> 0 | R47: =SUM(R17,R23,R29,R35,R41) -> 0 | S47: =SUM(S17,S23,S29,S35,S41) -> 0 | T47: =SUM(T17,T23,T29,T35,T41) -> 0 | U47: =SUM(U17,U23,U29,U35,U41) -> 0 | V47: 小計 | W47: =SUM(W17,W23,W29,W35,W41) -> 0 | Y47: =SUM(Y17,Y23,Y29,Y35,Y41) -> 0 | Z47: =SUM(Z17,Z23,Z29,Z35,Z41) -> 0 | AA47: =SUM(AA17,AA23,AA29,AA35,AA41) -> 0 | AB47: =SUM(AB17,AB23,AB29,AB35,AB41) -> 0 | AC47: =SUM(AC17,AC23,AC29,AC35,AC41) -> 0 | AD47: =SUM(AD17,AD23,AD29,AD35,AD41) -> 0
C49: （交付率2/3、3/4を適用する場合）当該交付率が該当する理由
C55: ※記入上の注意については、実施計画の記載要領を参照。
C66: 基盤構築分 | D66: プロジェクト実施分

Sheet 1-15-②（基）
C3: 様式1-15 各事業詳細
C5: 地方公共団体名：
C6: 年度： | D6: 令和●（202■）
C7: 事業番号： | D7: ② | E7: 区分： | F7: 基盤構築分
C8: 事業名：
AC9: （単位）千円
C10: 経費区分 | D10: 合計 | F10: 内訳
F11: 補助事業者執行分 | M11: 間接補助分
M12: 間接補助事業者①の執行分 | V12: 間接補助事業者②の執行分
M13: 【機関名】 | V13: 【機関名】
F14: 経費区分 | G14: 交付率：1/2 | I14: 交付率：2/3 | K14: 交付率：3/4 | M14: 経費区分 | N14: 間①執行額 | O14: 間接補助率 | P14: 交付率：1/2 | R14: 交付率：2/3 | T14: 交付率：3/4 | V14: 経費区分 | W14: 間①執行額 | X14: 間接補助率 | Y14: 交付率：1/2 | AA14: 交付率：2/3 | AC14: 交付率：3/4
D15: 交付対象 事業費 | G15: 交付対象 事業費 | I15: 交付対象 事業費 | K15: 交付対象 事業費 | P15: 間接補 助額 | R15: 間接補 助額 | T15: 間接補 助額 | Y15: 間接補 助額 | AA15: 間接補 助額 | AC15: 間接補 助額
E16: 交付申請額 | H16: 交付申請額 | J16: 交付申請額 | L16: 交付申請額 | Q16: 国費ベース | S16: 国費ベース | U16: 国費ベース | Z16: 国費ベース | AB16: 国費ベース | AD16: 国費ベース
C17: 【人件費・謝金】 | D17: =SUM(D18:D22) -> 0 | E17: =SUM(E18:E22) -> 0 | F17: 【人件費・謝金】 | G17: =SUM(G18:G22) -> 0 | H17: =SUM(H18:H22) -> 0 | I17: =SUM(I18:I22) -> 0 | J17: =SUM(J18:J22) -> 0 | K17: =SUM(K18:K22) -> 0 | L17: =SUM(L18:L22) -> 0 | M17: 【人件費・謝金】 | N17: =SUM(N18:N22) -> 0 | P17: =SUM(P18:P22) -> 0 | Q17: =SUM(Q18:Q22) -> 0 | R17: =SUM(R18:R22) -> 0 | S17: =SUM(S18:S22) -> 0 | T17: =SUM(T18:T22) -> 0 | U17: =SUM(U18:U22) -> 0 | V17: 【人件費・謝金】 | W17: =SUM(W18:W22) -> 0 | Y17: =SUM(Y18:Y22) -> 0 | Z17: =SUM(Z18:Z22) -> 0 | AA17: =SUM(AA18:AA22) -> 0 | AB17: =SUM(AB18:AB22) -> 0 | AC17: =SUM(AC18:AC22) -> 0 | AD17: =SUM(AD18:AD22) -> 0
C23: 【旅費】 | D23: =SUM(D24:D28) -> 0 | E23: =SUM(E24:E28) -> 0 | F23: 【旅費】 | G23: =SUM(G24:G28) -> 0 | H23: =SUM(H24:H28) -> 0 | I23: =SUM(I24:I28) -> 0 | J23: =SUM(J24:J28) -> 0 | K23: =SUM(K24:K28) -> 0 | L23: =SUM(L24:L28) -> 0 | M23: 【旅費】 | N23: =SUM(N24:N28) -> 0 | P23: =SUM(P24:P28) -> 0 | Q23: =SUM(Q24:Q28) -> 0 | R23: =SUM(R24:R28) -> 0 | S23: =SUM(S24:S28) -> 0 | T23: =SUM(T24:T28) -> 0 | U23: =SUM(U24:U28) -> 0 | V23: 【旅費】 | W23: =SUM(W24:W28) -> 0 | Y23: =SUM(Y24:Y28) -> 0 | Z23: =SUM(Z24:Z28) -> 0 | AA23: =SUM(AA24:AA28) -> 0 | AB23: =SUM(AB24:AB28) -> 0 | AC23: =SUM(AC24:AC28) -> 0 | AD23: =SUM(AD24:AD28) -> 0
C29: 【施設整備経費】 | D29: =SUM(D30:D34) -> 0 | E29: =SUM(E30:E34) -> 0 | F29: 【施設整備経費】 | G29: =SUM(G30:G34) -> 0 | H29: =SUM(H30:H34) -> 0 | I29: =SUM(I30:I34) -> 0 | J29: =SUM(J30:J34) -> 0 | K29: =SUM(K30:K34) -> 0 | L29: =SUM(L30:L34) -> 0 | M29: 【施設整備経費】 | N29: =SUM(N30:N34) -> 0 | P29: =SUM(P30:P34) -> 0 | Q29: =SUM(Q30:Q34) -> 0 | R29: =SUM(R30:R34) -> 0 | S29: =SUM(S30:S34) -> 0 | T29: =SUM(T30:T34) -> 0 | U29: =SUM(U30:U34) -> 0 | V29: 【施設整備経費】 | W29: =SUM(W30:W34) -> 0 | Y29: =SUM(Y30:Y34) -> 0 | Z29: =SUM(Z30:Z34) -> 0 | AA29: =SUM(AA30:AA34) -> 0 | AB29: =SUM(AB30:AB34) -> 0 | AC29: =SUM(AC30:AC34) -> 0 | AD29: =SUM(AD30:AD34) -> 0
C35: 【設備・物品費】 | D35: =SUM(D36:D40) -> 0 | E35: =SUM(E36:E40) -> 0 | F35: 【設備・物品費】 | G35: =SUM(G36:G40) -> 0 | H35: =SUM(H36:H40) -> 0 | I35: =SUM(I36:I40) -> 0 | J35: =SUM(J36:J40) -> 0 | K35: =SUM(K36:K40) -> 0 | L35: =SUM(L36:L40) -> 0 | M35: 【設備・物品費】 | N35: =SUM(N36:N40) -> 0 | P35: =SUM(P36:P40) -> 0 | Q35: =SUM(Q36:Q40) -> 0 | R35: =SUM(R36:R40) -> 0 | S35: =SUM(S36:S40) -> 0 | T35: =SUM(T36:T40) -> 0 | U35: =SUM(U36:U40) -> 0 | V35: 【設備・物品費】 | W35: =SUM(W36:W40) -> 0 | Y35: =SUM(Y36:Y40) -> 0 | Z35: =SUM(Z36:Z40) -> 0 | AA35: =SUM(AA36:AA40) -> 0 | AB35: =SUM(AB36:AB40) -> 0 | AC35: =SUM(AC36:AC40) -> 0 | AD35: =SUM(AD36:AD40) -> 0
C41: 【その他】 | D41: =SUM(D42:D46) -> 0 | E41: =SUM(E42:E46) -> 0 | F41: 【その他】 | G41: =SUM(G42:G46) -> 0 | H41: =SUM(H42:H46) -> 0 | I41: =SUM(I42:I46) -> 0 | J41: =SUM(J42:J46) -> 0 | K41: =SUM(K42:K46) -> 0 | L41: =SUM(L42:L46) -> 0 | M41: 【その他】 | N41: =SUM(N42:N46) -> 0 | P41: =SUM(P42:P46) -> 0 | Q41: =SUM(Q42:Q46) -> 0 | R41: =SUM(R42:R46) -> 0 | S41: =SUM(S42:S46) -> 0 | T41: =SUM(T42:T46) -> 0 | U41: =SUM(U42:U46) -> 0 | V41: 【その他】 | W41: =SUM(W42:W46) -> 0 | Y41: =SUM(Y42:Y46) -> 0 | Z41: =SUM(Z42:Z46) -> 0 | AA41: =SUM(AA42:AA46) -> 0 | AB41: =SUM(AB42:AB46) -> 0 | AC41: =SUM(AC42:AC46) -> 0 | AD41: =SUM(AD42:AD46) -> 0
C47: 小計 | D47: =SUM(D17,D23,D29,D35,D41) -> 0 | E47: =SUM(E17,E23,E29,E35,E41) -> 0 | F47: 小計 | G47: =SUM(G17,G23,G29,G35,G41) -> 0 | H47: =SUM(H17,H23,H29,H35,H41) -> 0 | I47: =SUM(I17,I23,I29,I35,I41) -> 0 | J47: =SUM(J17,J23,J29,J35,J41) -> 0 | K47: =SUM(K17,K23,K29,K35,K41) -> 0 | L47: =SUM(L17,L23,L29,L35,L41) -> 0 | M47: 小計 | N47: =SUM(N17,N23,N29,N35,N41) -> 0 | P47: =SUM(P17,P23,P29,P35,P41) -> 0 | Q47: =SUM(Q17,Q23,Q29,Q35,Q41) -> 0 | R47: =SUM(R17,R23,R29,R35,R41) -> 0 | S47: =SUM(S17,S23,S29,S35,S41) -> 0 | T47: =SUM(T17,T23,T29,T35,T41) -> 0 | U47: =SUM(U17,U23,U29,U35,U41) -> 0 | V47: 小計 | W47: =SUM(W17,W23,W29,W35,W41) -> 0 | Y47: =SUM(Y17,Y23,Y29,Y35,Y41) -> 0 | Z47: =SUM(Z17,Z23,Z29,Z35,Z41) -> 0 | AA47: =SUM(AA17,AA23,AA29,AA35,AA41) -> 0 | AB47: =SUM(AB17,AB23,AB29,AB35,AB41) -> 0 | AC47: =SUM(AC17,AC23,AC29,AC35,AC41) -> 0 | AD47: =SUM(AD17,AD23,AD29,AD35,AD41) -> 0
C49: （交付率2/3、3/4を適用する場合）当該交付率が該当する理由
C55: ※記入上の注意については、実施計画の記載要領を参照。
C66: 基盤構築分 | D66: プロジェクト実施分

Sheet 1-15-②（プ）
C3: 様式1-15 各事業詳細
C5: 地方公共団体名：
C6: 年度： | D6: 令和●（202■）
C7: 事業番号： | D7: ② | E7: 区分： | F7: プロジェクト実施分
C8: 事業名：
AC9: （単位）千円
C10: 経費区分 | D10: 合計 | F10: 内訳
F11: 補助事業者執行分 | M11: 間接補助分
M12: 間接補助事業者①の執行分 | V12: 間接補助事業者②の執行分
M13: 【機関名】 | V13: 【機関名】
F14: 経費区分 | G14: 交付率：1/2 | I14: 交付率：2/3 | K14: 交付率：3/4 | M14: 経費区分 | N14: 間①執行額 | O14: 間接補助率 | P14: 交付率：1/2 | R14: 交付率：2/3 | T14: 交付率：3/4 | V14: 経費区分 | W14: 間①執行額 | X14: 間接補助率 | Y14: 交付率：1/2 | AA14: 交付率：2/3 | AC14: 交付率：3/4
D15: 交付対象 事業費 | G15: 交付対象 事業費 | I15: 交付対象 事業費 | K15: 交付対象 事業費 | P15: 間接補 助額 | R15: 間接補 助額 | T15: 間接補 助額 | Y15: 間接補 助額 | AA15: 間接補 助額 | AC15: 間接補 助額
E16: 交付申請額 | H16: 交付申請額 | J16: 交付申請額 | L16: 交付申請額 | Q16: 国費ベース | S16: 国費ベース | U16: 国費ベース | Z16: 国費ベース | AB16: 国費ベース | AD16: 国費ベース
C17: 【人件費・謝金】 | D17: =SUM(D18:D22) -> 0 | E17: =SUM(E18:E22) -> 0 | F17: 【人件費・謝金】 | G17: =SUM(G18:G22) -> 0 | H17: =SUM(H18:H22) -> 0 | I17: =SUM(I18:I22) -> 0 | J17: =SUM(J18:J22) -> 0 | K17: =SUM(K18:K22) -> 0 | L17: =SUM(L18:L22) -> 0 | M17: 【人件費・謝金】 | N17: =SUM(N18:N22) -> 0 | P17: =SUM(P18:P22) -> 0 | Q17: =SUM(Q18:Q22) -> 0 | R17: =SUM(R18:R22) -> 0 | S17: =SUM(S18:S22) -> 0 | T17: =SUM(T18:T22) -> 0 | U17: =SUM(U18:U22) -> 0 | V17: 【人件費・謝金】 | W17: =SUM(W18:W22) -> 0 | Y17: =SUM(Y18:Y22) -> 0 | Z17: =SUM(Z18:Z22) -> 0 | AA17: =SUM(AA18:AA22) -> 0 | AB17: =SUM(AB18:AB22) -> 0 | AC17: =SUM(AC18:AC22) -> 0 | AD17: =SUM(AD18:AD22) -> 0
C23: 【旅費】 | D23: =SUM(D24:D28) -> 0 | E23: =SUM(E24:E28) -> 0 | F23: 【旅費】 | G23: =SUM(G24:G28) -> 0 | H23: =SUM(H24:H28) -> 0 | I23: =SUM(I24:I28) -> 0 | J23: =SUM(J24:J28) -> 0 | K23: =SUM(K24:K28) -> 0 | L23: =SUM(L24:L28) -> 0 | M23: 【旅費】 | N23: =SUM(N24:N28) -> 0 | P23: =SUM(P24:P28) -> 0 | Q23: =SUM(Q24:Q28) -> 0 | R23: =SUM(R24:R28) -> 0 | S23: =SUM(S24:S28) -> 0 | T23: =SUM(T24:T28) -> 0 | U23: =SUM(U24:U28) -> 0 | V23: 【旅費】 | W23: =SUM(W24:W28) -> 0 | Y23: =SUM(Y24:Y28) -> 0 | Z23: =SUM(Z24:Z28) -> 0 | AA23: =SUM(AA24:AA28) -> 0 | AB23: =SUM(AB24:AB28) -> 0 | AC23: =SUM(AC24:AC28) -> 0 | AD23: =SUM(AD24:AD28) -> 0
C29: 【施設整備経費】 | D29: =SUM(D30:D34) -> 0 | E29: =SUM(E30:E34) -> 0 | F29: 【施設整備経費】 | G29: =SUM(G30:G34) -> 0 | H29: =SUM(H30:H34) -> 0 | I29: =SUM(I30:I34) -> 0 | J29: =SUM(J30:J34) -> 0 | K29: =SUM(K30:K34) -> 0 | L29: =SUM(L30:L34) -> 0 | M29: 【施設整備経費】 | N29: =SUM(N30:N34) -> 0 | P29: =SUM(P30:P34) -> 0 | Q29: =SUM(Q30:Q34) -> 0 | R29: =SUM(R30:R34) -> 0 | S29: =SUM(S30:S34) -> 0 | T29: =SUM(T30:T34) -> 0 | U29: =SUM(U30:U34) -> 0 | V29: 【施設整備経費】 | W29: =SUM(W30:W34) -> 0 | Y29: =SUM(Y30:Y34) -> 0 | Z29: =SUM(Z30:Z34) -> 0 | AA29: =SUM(AA30:AA34) -> 0 | AB29: =SUM(AB30:AB34) -> 0 | AC29: =SUM(AC30:AC34) -> 0 | AD29: =SUM(AD30:AD34) -> 0
C35: 【設備・物品費】 | D35: =SUM(D36:D40) -> 0 | E35: =SUM(E36:E40) -> 0 | F35: 【設備・物品費】 | G35: =SUM(G36:G40) -> 0 | H35: =SUM(H36:H40) -> 0 | I35: =SUM(I36:I40) -> 0 | J35: =SUM(J36:J40) -> 0 | K35: =SUM(K36:K40) -> 0 | L35: =SUM(L36:L40) -> 0 | M35: 【設備・物品費】 | N35: =SUM(N36:N40) -> 0 | P35: =SUM(P36:P40) -> 0 | Q35: =SUM(Q36:Q40) -> 0 | R35: =SUM(R36:R40) -> 0 | S35: =SUM(S36:S40) -> 0 | T35: =SUM(T36:T40) -> 0 | U35: =SUM(U36:U40) -> 0 | V35: 【設備・物品費】 | W35: =SUM(W36:W40) -> 0 | Y35: =SUM(Y36:Y40) -> 0 | Z35: =SUM(Z36:Z40) -> 0 | AA35: =SUM(AA36:AA40) -> 0 | AB35: =SUM(AB36:AB40) -> 0 | AC35: =SUM(AC36:AC40) -> 0 | AD35: =SUM(AD36:AD40) -> 0
C41: 【その他】 | D41: =SUM(D42:D46) -> 0 | E41: =SUM(E42:E46) -> 0 | F41: 【その他】 | G41: =SUM(G42:G46) -> 0 | H41: =SUM(H42:H46) -> 0 | I41: =SUM(I42:I46) -> 0 | J41: =SUM(J42:J46) -> 0 | K41: =SUM(K42:K46) -> 0 | L41: =SUM(L42:L46) -> 0 | M41: 【その他】 | N41: =SUM(N42:N46) -> 0 | P41: =SUM(P42:P46) -> 0 | Q41: =SUM(Q42:Q46) -> 0 | R41: =SUM(R42:R46) -> 0 | S41: =SUM(S42:S46) -> 0 | T41: =SUM(T42:T46) -> 0 | U41: =SUM(U42:U46) -> 0 | V41: 【その他】 | W41: =SUM(W42:W46) -> 0 | Y41: =SUM(Y42:Y46) -> 0 | Z41: =SUM(Z42:Z46) -> 0 | AA41: =SUM(AA42:AA46) -> 0 | AB41: =SUM(AB42:AB46) -> 0 | AC41: =SUM(AC42:AC46) -> 0 | AD41: =SUM(AD42:AD46) -> 0
C47: 小計 | D47: =SUM(D17,D23,D29,D35,D41) -> 0 | E47: =SUM(E17,E23,E29,E35,E41) -> 0 | F47: 小計 | G47: =SUM(G17,G23,G29,G35,G41) -> 0 | H47: =SUM(H17,H23,H29,H35,H41) -> 0 | I47: =SUM(I17,I23,I29,I35,I41) -> 0 | J47: =SUM(J17,J23,J29,J35,J41) -> 0 | K47: =SUM(K17,K23,K29,K35,K41) -> 0 | L47: =SUM(L17,L23,L29,L35,L41) -> 0 | M47: 小計 | N47: =SUM(N17,N23,N29,N35,N41) -> 0 | P47: =SUM(P17,P23,P29,P35,P41) -> 0 | Q47: =SUM(Q17,Q23,Q29,Q35,Q41) -> 0 | R47: =SUM(R17,R23,R29,R35,R41) -> 0 | S47: =SUM(S17,S23,S29,S35,S41) -> 0 | T47: =SUM(T17,T23,T29,T35,T41) -> 0 | U47: =SUM(U17,U23,U29,U35,U41) -> 0 | V47: 小計 | W47: =SUM(W17,W23,W29,W35,W41) -> 0 | Y47: =SUM(Y17,Y23,Y29,Y35,Y41) -> 0 | Z47: =SUM(Z17,Z23,Z29,Z35,Z41) -> 0 | AA47: =SUM(AA17,AA23,AA29,AA35,AA41) -> 0 | AB47: =SUM(AB17,AB23,AB29,AB35,AB41) -> 0 | AC47: =SUM(AC17,AC23,AC29,AC35,AC41) -> 0 | AD47: =SUM(AD17,AD23,AD29,AD35,AD41) -> 0
C49: （交付率2/3、3/4を適用する場合）当該交付率が該当する理由
C55: ※記入上の注意については、実施計画の記載要領を参照。
C66: 基盤構築分 | D66: プロジェクト実施分

Sheet 1-15-③（基）
C3: 様式1-15 各事業詳細
C5: 地方公共団体名：
C6: 年度： | D6: 令和●（202■）
C7: 事業番号： | D7: ③ | E7: 区分： | F7: 基盤構築分
C8: 事業名：
AC9: （単位）千円
C10: 経費区分 | D10: 合計 | F10: 内訳
F11: 補助事業者執行分 | M11: 間接補助分
M12: 間接補助事業者①の執行分 | V12: 間接補助事業者②の執行分
M13: 【機関名】 | V13: 【機関名】
F14: 経費区分 | G14: 交付率：1/2 | I14: 交付率：2/3 | K14: 交付率：3/4 | M14: 経費区分 | N14: 間①執行額 | O14: 間接補助率 | P14: 交付率：1/2 | R14: 交付率：2/3 | T14: 交付率：3/4 | V14: 経費区分 | W14: 間①執行額 | X14: 間接補助率 | Y14: 交付率：1/2 | AA14: 交付率：2/3 | AC14: 交付率：3/4
D15: 交付対象 事業費 | G15: 交付対象 事業費 | I15: 交付対象 事業費 | K15: 交付対象 事業費 | P15: 間接補 助額 | R15: 間接補 助額 | T15: 間接補 助額 | Y15: 間接補 助額 | AA15: 間接補 助額 | AC15: 間接補 助額
E16: 交付申請額 | H16: 交付申請額 | J16: 交付申請額 | L16: 交付申請額 | Q16: 国費ベース | S16: 国費ベース | U16: 国費ベース | Z16: 国費ベース | AB16: 国費ベース | AD16: 国費ベース
C17: 【人件費・謝金】 | D17: =SUM(D18:D22) -> 0 | E17: =SUM(E18:E22) -> 0 | F17: 【人件費・謝金】 | G17: =SUM(G18:G22) -> 0 | H17: =SUM(H18:H22) -> 0 | I17: =SUM(I18:I22) -> 0 | J17: =SUM(J18:J22) -> 0 | K17: =SUM(K18:K22) -> 0 | L17: =SUM(L18:L22) -> 0 | M17: 【人件費・謝金】 | N17: =SUM(N18:N22) -> 0 | P17: =SUM(P18:P22) -> 0 | Q17: =SUM(Q18:Q22) -> 0 | R17: =SUM(R18:R22) -> 0 | S17: =SUM(S18:S22) -> 0 | T17: =SUM(T18:T22) -> 0 | U17: =SUM(U18:U22) -> 0 | V17: 【人件費・謝金】 | W17: =SUM(W18:W22) -> 0 | Y17: =SUM(Y18:Y22) -> 0 | Z17: =SUM(Z18:Z22) -> 0 | AA17: =SUM(AA18:AA22) -> 0 | AB17: =SUM(AB18:AB22) -> 0 | AC17: =SUM(AC18:AC22) -> 0 | AD17: =SUM(AD18:AD22) -> 0
C23: 【旅費】 | D23: =SUM(D24:D28) -> 0 | E23: =SUM(E24:E28) -> 0 | F23: 【旅費】 | G23: =SUM(G24:G28) -> 0 | H23: =SUM(H24:H28) -> 0 | I23: =SUM(I24:I28) -> 0 | J23: =SUM(J24:J28) -> 0 | K23: =SUM(K24:K28) -> 0 | L23: =SUM(L24:L28) -> 0 | M23: 【旅費】 | N23: =SUM(N24:N28) -> 0 | P23: =SUM(P24:P28) -> 0 | Q23: =SUM(Q24:Q28) -> 0 | R23: =SUM(R24:R28) -> 0 | S23: =SUM(S24:S28) -> 0 | T23: =SUM(T24:T28) -> 0 | U23: =SUM(U24:U28) -> 0 | V23: 【旅費】 | W23: =SUM(W24:W28) -> 0 | Y23: =SUM(Y24:Y28) -> 0 | Z23: =SUM(Z24:Z28) -> 0 | AA23: =SUM(AA24:AA28) -> 0 | AB23: =SUM(AB24:AB28) -> 0 | AC23: =SUM(AC24:AC28) -> 0 | AD23: =SUM(AD24:AD28) -> 0
C29: 【施設整備経費】 | D29: =SUM(D30:D34) -> 0 | E29: =SUM(E30:E34) -> 0 | F29: 【施設整備経費】 | G29: =SUM(G30:G34) -> 0 | H29: =SUM(H30:H34) -> 0 | I29: =SUM(I30:I34) -> 0 | J29: =SUM(J30:J34) -> 0 | K29: =SUM(K30:K34) -> 0 | L29: =SUM(L30:L34) -> 0 | M29: 【施設整備経費】 | N29: =SUM(N30:N34) -> 0 | P29: =SUM(P30:P34) -> 0 | Q29: =SUM(Q30:Q34) -> 0 | R29: =SUM(R30:R34) -> 0 | S29: =SUM(S30:S34) -> 0 | T29: =SUM(T30:T34) -> 0 | U29: =SUM(U30:U34) -> 0 | V29: 【施設整備経費】 | W29: =SUM(W30:W34) -> 0 | Y29: =SUM(Y30:Y34) -> 0 | Z29: =SUM(Z30:Z34) -> 0 | AA29: =SUM(AA30:AA34) -> 0 | AB29: =SUM(AB30:AB34) -> 0 | AC29: =SUM(AC30:AC34) -> 0 | AD29: =SUM(AD30:AD34) -> 0
C35: 【設備・物品費】 | D35: =SUM(D36:D40) -> 0 | E35: =SUM(E36:E40) -> 0 | F35: 【設備・物品費】 | G35: =SUM(G36:G40) -> 0 | H35: =SUM(H36:H40) -> 0 | I35: =SUM(I36:I40) -> 0 | J35: =SUM(J36:J40) -> 0 | K35: =SUM(K36:K40) -> 0 | L35: =SUM(L36:L40) -> 0 | M35: 【設備・物品費】 | N35: =SUM(N36:N40) -> 0 | P35: =SUM(P36:P40) -> 0 | Q35: =SUM(Q36:Q40) -> 0 | R35: =SUM(R36:R40) -> 0 | S35: =SUM(S36:S40) -> 0 | T35: =SUM(T36:T40) -> 0 | U35: =SUM(U36:U40) -> 0 | V35: 【設備・物品費】 | W35: =SUM(W36:W40) -> 0 | Y35: =SUM(Y36:Y40) -> 0 | Z35: =SUM(Z36:Z40) -> 0 | AA35: =SUM(AA36:AA40) -> 0 | AB35: =SUM(AB36:AB40) -> 0 | AC35: =SUM(AC36:AC40) -> 0 | AD35: =SUM(AD36:AD40) -> 0
C41: 【その他】 | D41: =SUM(D42:D46) -> 0 | E41: =SUM(E42:E46) -> 0 | F41: 【その他】 | G41: =SUM(G42:G46) -> 0 | H41: =SUM(H42:H46) -> 0 | I41: =SUM(I42:I46) -> 0 | J41: =SUM(J42:J46) -> 0 | K41: =SUM(K42:K46) -> 0 | L41: =SUM(L42:L46) -> 0 | M41: 【その他】 | N41: =SUM(N42:N46) -> 0 | P41: =SUM(P42:P46) -> 0 | Q41: =SUM(Q42:Q46) -> 0 | R41: =SUM(R42:R46) -> 0 | S41: =SUM(S42:S46) -> 0 | T41: =SUM(T42:T46) -> 0 | U41: =SUM(U42:U46) -> 0 | V41: 【その他】 | W41: =SUM(W42:W46) -> 0 | Y41: =SUM(Y42:Y46) -> 0 | Z41: =SUM(Z42:Z46) -> 0 | AA41: =SUM(AA42:AA46) -> 0 | AB41: =SUM(AB42:AB46) -> 0 | AC41: =SUM(AC42:AC46) -> 0 | AD41: =SUM(AD42:AD46) -> 0
C47: 小計 | D47: =SUM(D17,D23,D29,D35,D41) -> 0 | E47: =SUM(E17,E23,E29,E35,E41) -> 0 | F47: 小計 | G47: =SUM(G17,G23,G29,G35,G41) -> 0 | H47: =SUM(H17,H23,H29,H35,H41) -> 0 | I47: =SUM(I17,I23,I29,I35,I41) -> 0 | J47: =SUM(J17,J23,J29,J35,J41) -> 0 | K47: =SUM(K17,K23,K29,K35,K41) -> 0 | L47: =SUM(L17,L23,L29,L35,L41) -> 0 | M47: 小計 | N47: =SUM(N17,N23,N29,N35,N41) -> 0 | P47: =SUM(P17,P23,P29,P35,P41) -> 0 | Q47: =SUM(Q17,Q23,Q29,Q35,Q41) -> 0 | R47: =SUM(R17,R23,R29,R35,R41) -> 0 | S47: =SUM(S17,S23,S29,S35,S41) -> 0 | T47: =SUM(T17,T23,T29,T35,T41) -> 0 | U47: =SUM(U17,U23,U29,U35,U41) -> 0 | V47: 小計 | W47: =SUM(W17,W23,W29,W35,W41) -> 0 | Y47: =SUM(Y17,Y23,Y29,Y35,Y41) -> 0 | Z47: =SUM(Z17,Z23,Z29,Z35,Z41) -> 0 | AA47: =SUM(AA17,AA23,AA29,AA35,AA41) -> 0 | AB47: =SUM(AB17,AB23,AB29,AB35,AB41) -> 0 | AC47: =SUM(AC17,AC23,AC29,AC35,AC41) -> 0 | AD47: =SUM(AD17,AD23,AD29,AD35,AD41) -> 0
C49: （交付率2/3、3/4を適用する場合）当該交付率が該当する理由
C55: ※記入上の注意については、実施計画の記載要領を参照。
C66: 基盤構築分 | D66: プロジェクト実施分

Sheet 1-15-③（プ）
C3: 様式1-15 各事業詳細
C5: 地方公共団体名：
C6: 年度： | D6: 令和●（202■）
C7: 事業番号： | D7: ③ | E7: 区分： | F7: プロジェクト実施分
C8: 事業名：
AC9: （単位）千円
C10: 経費区分 | D10: 合計 | F10: 内訳
F11: 補助事業者執行分 | M11: 間接補助分
M12: 間接補助事業者①の執行分 | V12: 間接補助事業者②の執行分
M13: 【機関名】 | V13: 【機関名】
F14: 経費区分 | G14: 交付率：1/2 | I14: 交付率：2/3 | K14: 交付率：3/4 | M14: 経費区分 | N14: 間①執行額 | O14: 間接補助率 | P14: 交付率：1/2 | R14: 交付率：2/3 | T14: 交付率：3/4 | V14: 経費区分 | W14: 間①執行額 | X14: 間接補助率 | Y14: 交付率：1/2 | AA14: 交付率：2/3 | AC14: 交付率：3/4
D15: 交付対象 事業費 | G15: 交付対象 事業費 | I15: 交付対象 事業費 | K15: 交付対象 事業費 | P15: 間接補 助額 | R15: 間接補 助額 | T15: 間接補 助額 | Y15: 間接補 助額 | AA15: 間接補 助額 | AC15: 間接補 助額
E16: 交付申請額 | H16: 交付申請額 | J16: 交付申請額 | L16: 交付申請額 | Q16: 国費ベース | S16: 国費ベース | U16: 国費ベース | Z16: 国費ベース | AB16: 国費ベース | AD16: 国費ベース
C17: 【人件費・謝金】 | D17: =SUM(D18:D22) -> 0 | E17: =SUM(E18:E22) -> 0 | F17: 【人件費・謝金】 | G17: =SUM(G18:G22) -> 0 | H17: =SUM(H18:H22) -> 0 | I17: =SUM(I18:I22) -> 0 | J17: =SUM(J18:J22) -> 0 | K17: =SUM(K18:K22) -> 0 | L17: =SUM(L18:L22) -> 0 | M17: 【人件費・謝金】 | N17: =SUM(N18:N22) -> 0 | P17: =SUM(P18:P22) -> 0 | Q17: =SUM(Q18:Q22) -> 0 | R17: =SUM(R18:R22) -> 0 | S17: =SUM(S18:S22) -> 0 | T17: =SUM(T18:T22) -> 0 | U17: =SUM(U18:U22) -> 0 | V17: 【人件費・謝金】 | W17: =SUM(W18:W22) -> 0 | Y17: =SUM(Y18:Y22) -> 0 | Z17: =SUM(Z18:Z22) -> 0 | AA17: =SUM(AA18:AA22) -> 0 | AB17: =SUM(AB18:AB22) -> 0 | AC17: =SUM(AC18:AC22) -> 0 | AD17: =SUM(AD18:AD22) -> 0
C23: 【旅費】 | D23: =SUM(D24:D28) -> 0 | E23: =SUM(E24:E28) -> 0 | F23: 【旅費】 | G23: =SUM(G24:G28) -> 0 | H23: =SUM(H24:H28) -> 0 | I23: =SUM(I24:I28) -> 0 | J23: =SUM(J24:J28) -> 0 | K23: =SUM(K24:K28) -> 0 | L23: =SUM(L24:L28) -> 0 | M23: 【旅費】 | N23: =SUM(N24:N28) -> 0 | P23: =SUM(P24:P28) -> 0 | Q23: =SUM(Q24:Q28) -> 0 | R23: =SUM(R24:R28) -> 0 | S23: =SUM(S24:S28) -> 0 | T23: =SUM(T24:T28) -> 0 | U23: =SUM(U24:U28) -> 0 | V23: 【旅費】 | W23: =SUM(W24:W28) -> 0 | Y23: =SUM(Y24:Y28) -> 0 | Z23: =SUM(Z24:Z28) -> 0 | AA23: =SUM(AA24:AA28) -> 0 | AB23: =SUM(AB24:AB28) -> 0 | AC23: =SUM(AC24:AC28) -> 0 | AD23: =SUM(AD24:AD28) -> 0
C29: 【施設整備経費】 | D29: =SUM(D30:D34) -> 0 | E29: =SUM(E30:E34) -> 0 | F29: 【施設整備経費】 | G29: =SUM(G30:G34) -> 0 | H29: =SUM(H30:H34) -> 0 | I29: =SUM(I30:I34) -> 0 | J29: =SUM(J30:J34) -> 0 | K29: =SUM(K30:K34) -> 0 | L29: =SUM(L30:L34) -> 0 | M29: 【施設整備経費】 | N29: =SUM(N30:N34) -> 0 | P29: =SUM(P30:P34) -> 0 | Q29: =SUM(Q30:Q34) -> 0 | R29: =SUM(R30:R34) -> 0 | S29: =SUM(S30:S34) -> 0 | T29: =SUM(T30:T34) -> 0 | U29: =SUM(U30:U34) -> 0 | V29: 【施設整備経費】 | W29: =SUM(W30:W34) -> 0 | Y29: =SUM(Y30:Y34) -> 0 | Z29: =SUM(Z30:Z34) -> 0 | AA29: =SUM(AA30:AA34) -> 0 | AB29: =SUM(AB30:AB34) -> 0 | AC29: =SUM(AC30:AC34) -> 0 | AD29: =SUM(AD30:AD34) -> 0
C35: 【設備・物品費】 | D35: =SUM(D36:D40) -> 0 | E35: =SUM(E36:E40) -> 0 | F35: 【設備・物品費】 | G35: =SUM(G36:G40) -> 0 | H35: =SUM(H36:H40) -> 0 | I35: =SUM(I36:I40) -> 0 | J35: =SUM(J36:J40) -> 0 | K35: =SUM(K36:K40) -> 0 | L35: =SUM(L36:L40) -> 0 | M35: 【設備・物品費】 | N35: =SUM(N36:N40) -> 0 | P35: =SUM(P36:P40) -> 0 | Q35: =SUM(Q36:Q40) -> 0 | R35: =SUM(R36:R40) -> 0 | S35: =SUM(S36:S40) -> 0 | T35: =SUM(T36:T40) -> 0 | U35: =SUM(U36:U40) -> 0 | V35: 【設備・物品費】 | W35: =SUM(W36:W40) -> 0 | Y35: =SUM(Y36:Y40) -> 0 | Z35: =SUM(Z36:Z40) -> 0 | AA35: =SUM(AA36:AA40) -> 0 | AB35: =SUM(AB36:AB40) -> 0 | AC35: =SUM(AC36:AC40) -> 0 | AD35: =SUM(AD36:AD40) -> 0
C41: 【その他】 | D41: =SUM(D42:D46) -> 0 | E41: =SUM(E42:E46) -> 0 | F41: 【その他】 | G41: =SUM(G42:G46) -> 0 | H41: =SUM(H42:H46) -> 0 | I41: =SUM(I42:I46) -> 0 | J41: =SUM(J42:J46) -> 0 | K41: =SUM(K42:K46) -> 0 | L41: =SUM(L42:L46) -> 0 | M41: 【その他】 | N41: =SUM(N42:N46) -> 0 | P41: =SUM(P42:P46) -> 0 | Q41: =SUM(Q42:Q46) -> 0 | R41: =SUM(R42:R46) -> 0 | S41: =SUM(S42:S46) -> 0 | T41: =SUM(T42:T46) -> 0 | U41: =SUM(U42:U46) -> 0 | V41: 【その他】 | W41: =SUM(W42:W46) -> 0 | Y41: =SUM(Y42:Y46) -> 0 | Z41: =SUM(Z42:Z46) -> 0 | AA41: =SUM(AA42:AA46) -> 0 | AB41: =SUM(AB42:AB46) -> 0 | AC41: =SUM(AC42:AC46) -> 0 | AD41: =SUM(AD42:AD46) -> 0
C47: 小計 | D47: =SUM(D17,D23,D29,D35,D41) -> 0 | E47: =SUM(E17,E23,E29,E35,E41) -> 0 | F47: 小計 | G47: =SUM(G17,G23,G29,G35,G41) -> 0 | H47: =SUM(H17,H23,H29,H35,H41) -> 0 | I47: =SUM(I17,I23,I29,I35,I41) -> 0 | J47: =SUM(J17,J23,J29,J35,J41) -> 0 | K47: =SUM(K17,K23,K29,K35,K41) -> 0 | L47: =SUM(L17,L23,L29,L35,L41) -> 0 | M47: 小計 | N47: =SUM(N17,N23,N29,N35,N41) -> 0 | P47: =SUM(P17,P23,P29,P35,P41) -> 0 | Q47: =SUM(Q17,Q23,Q29,Q35,Q41) -> 0 | R47: =SUM(R17,R23,R29,R35,R41) -> 0 | S47: =SUM(S17,S23,S29,S35,S41) -> 0 | T47: =SUM(T17,T23,T29,T35,T41) -> 0 | U47: =SUM(U17,U23,U29,U35,U41) -> 0 | V47: 小計 | W47: =SUM(W17,W23,W29,W35,W41) -> 0 | Y47: =SUM(Y17,Y23,Y29,Y35,Y41) -> 0 | Z47: =SUM(Z17,Z23,Z29,Z35,Z41) -> 0 | AA47: =SUM(AA17,AA23,AA29,AA35,AA41) -> 0 | AB47: =SUM(AB17,AB23,AB29,AB35,AB41) -> 0 | AC47: =SUM(AC17,AC23,AC29,AC35,AC41) -> 0 | AD47: =SUM(AD17,AD23,AD29,AD35,AD41) -> 0
C49: （交付率2/3、3/4を適用する場合）当該交付率が該当する理由
C55: ※記入上の注意については、実施計画の記載要領を参照。
C66: 基盤構築分 | D66: プロジェクト実施分

Sheet 1-15-④（基）
C3: 様式1-15 各事業詳細
C5: 地方公共団体名：
C6: 年度： | D6: 令和●（202■）
C7: 事業番号： | D7: ④ | E7: 区分： | F7: 基盤構築分
C8: 事業名：
AC9: （単位）千円
C10: 経費区分 | D10: 合計 | F10: 内訳
F11: 補助事業者執行分 | M11: 間接補助分
M12: 間接補助事業者①の執行分 | V12: 間接補助事業者②の執行分
M13: 【機関名】 | V13: 【機関名】
F14: 経費区分 | G14: 交付率：1/2 | I14: 交付率：2/3 | K14: 交付率：3/4 | M14: 経費区分 | N14: 間①執行額 | O14: 間接補助率 | P14: 交付率：1/2 | R14: 交付率：2/3 | T14: 交付率：3/4 | V14: 経費区分 | W14: 間①執行額 | X14: 間接補助率 | Y14: 交付率：1/2 | AA14: 交付率：2/3 | AC14: 交付率：3/4
D15: 交付対象 事業費 | G15: 交付対象 事業費 | I15: 交付対象 事業費 | K15: 交付対象 事業費 | P15: 間接補 助額 | R15: 間接補 助額 | T15: 間接補 助額 | Y15: 間接補 助額 | AA15: 間接補 助額 | AC15: 間接補 助額
E16: 交付申請額 | H16: 交付申請額 | J16: 交付申請額 | L16: 交付申請額 | Q16: 国費ベース | S16: 国費ベース | U16: 国費ベース | Z16: 国費ベース | AB16: 国費ベース | AD16: 国費ベース
C17: 【人件費・謝金】 | D17: =SUM(D18:D22) -> 0 | E17: =SUM(E18:E22) -> 0 | F17: 【人件費・謝金】 | G17: =SUM(G18:G22) -> 0 | H17: =SUM(H18:H22) -> 0 | I17: =SUM(I18:I22) -> 0 | J17: =SUM(J18:J22) -> 0 | K17: =SUM(K18:K22) -> 0 | L17: =SUM(L18:L22) -> 0 | M17: 【人件費・謝金】 | N17: =SUM(N18:N22) -> 0 | P17: =SUM(P18:P22) -> 0 | Q17: =SUM(Q18:Q22) -> 0 | R17: =SUM(R18:R22) -> 0 | S17: =SUM(S18:S22) -> 0 | T17: =SUM(T18:T22) -> 0 | U17: =SUM(U18:U22) -> 0 | V17: 【人件費・謝金】 | W17: =SUM(W18:W22) -> 0 | Y17: =SUM(Y18:Y22) -> 0 | Z17: =SUM(Z18:Z22) -> 0 | AA17: =SUM(AA18:AA22) -> 0 | AB17: =SUM(AB18:AB22) -> 0 | AC17: =SUM(AC18:AC22) -> 0 | AD17: =SUM(AD18:AD22) -> 0
C23: 【旅費】 | D23: =SUM(D24:D28) -> 0 | E23: =SUM(E24:E28) -> 0 | F23: 【旅費】 | G23: =SUM(G24:G28) -> 0 | H23: =SUM(H24:H28) -> 0 | I23: =SUM(I24:I28) -> 0 | J23: =SUM(J24:J28) -> 0 | K23: =SUM(K24:K28) -> 0 | L23: =SUM(L24:L28) -> 0 | M23: 【旅費】 | N23: =SUM(N24:N28) -> 0 | P23: =SUM(P24:P28) -> 0 | Q23: =SUM(Q24:Q28) -> 0 | R23: =SUM(R24:R28) -> 0 | S23: =SUM(S24:S28) -> 0 | T23: =SUM(T24:T28) -> 0 | U23: =SUM(U24:U28) -> 0 | V23: 【旅費】 | W23: =SUM(W24:W28) -> 0 | Y23: =SUM(Y24:Y28) -> 0 | Z23: =SUM(Z24:Z28) -> 0 | AA23: =SUM(AA24:AA28) -> 0 | AB23: =SUM(AB24:AB28) -> 0 | AC23: =SUM(AC24:AC28) -> 0 | AD23: =SUM(AD24:AD28) -> 0
C29: 【施設整備経費】 | D29: =SUM(D30:D34) -> 0 | E29: =SUM(E30:E34) -> 0 | F29: 【施設整備経費】 | G29: =SUM(G30:G34) -> 0 | H29: =SUM(H30:H34) -> 0 | I29: =SUM(I30:I34) -> 0 | J29: =SUM(J30:J34) -> 0 | K29: =SUM(K30:K34) -> 0 | L29: =SUM(L30:L34) -> 0 | M29: 【施設整備経費】 | N29: =SUM(N30:N34) -> 0 | P29: =SUM(P30:P34) -> 0 | Q29: =SUM(Q30:Q34) -> 0 | R29: =SUM(R30:R34) -> 0 | S29: =SUM(S30:S34) -> 0 | T29: =SUM(T30:T34) -> 0 | U29: =SUM(U30:U34) -> 0 | V29: 【施設整備経費】 | W29: =SUM(W30:W34) -> 0 | Y29: =SUM(Y30:Y34) -> 0 | Z29: =SUM(Z30:Z34) -> 0 | AA29: =SUM(AA30:AA34) -> 0 | AB29: =SUM(AB30:AB34) -> 0 | AC29: =SUM(AC30:AC34) -> 0 | AD29: =SUM(AD30:AD34) -> 0
C35: 【設備・物品費】 | D35: =SUM(D36:D40) -> 0 | E35: =SUM(E36:E40) -> 0 | F35: 【設備・物品費】 | G35: =SUM(G36:G40) -> 0 | H35: =SUM(H36:H40) -> 0 | I35: =SUM(I36:I40) -> 0 | J35: =SUM(J36:J40) -> 0 | K35: =SUM(K36:K40) -> 0 | L35: =SUM(L36:L40) -> 0 | M35: 【設備・物品費】 | N35: =SUM(N36:N40) -> 0 | P35: =SUM(P36:P40) -> 0 | Q35: =SUM(Q36:Q40) -> 0 | R35: =SUM(R36:R40) -> 0 | S35: =SUM(S36:S40) -> 0 | T35: =SUM(T36:T40) -> 0 | U35: =SUM(U36:U40) -> 0 | V35: 【設備・物品費】 | W35: =SUM(W36:W40) -> 0 | Y35: =SUM(Y36:Y40) -> 0 | Z35: =SUM(Z36:Z40) -> 0 | AA35: =SUM(AA36:AA40) -> 0 | AB35: =SUM(AB36:AB40) -> 0 | AC35: =SUM(AC36:AC40) -> 0 | AD35: =SUM(AD36:AD40) -> 0
C41: 【その他】 | D41: =SUM(D42:D46) -> 0 | E41: =SUM(E42:E46) -> 0 | F41: 【その他】 | G41: =SUM(G42:G46) -> 0 | H41: =SUM(H42:H46) -> 0 | I41: =SUM(I42:I46) -> 0 | J41: =SUM(J42:J46) -> 0 | K41: =SUM(K42:K46) -> 0 | L41: =SUM(L42:L46) -> 0 | M41: 【その他】 | N41: =SUM(N42:N46) -> 0 | P41: =SUM(P42:P46) -> 0 | Q41: =SUM(Q42:Q46) -> 0 | R41: =SUM(R42:R46) -> 0 | S41: =SUM(S42:S46) -> 0 | T41: =SUM(T42:T46) -> 0 | U41: =SUM(U42:U46) -> 0 | V41: 【その他】 | W41: =SUM(W42:W46) -> 0 | Y41: =SUM(Y42:Y46) -> 0 | Z41: =SUM(Z42:Z46) -> 0 | AA41: =SUM(AA42:AA46) -> 0 | AB41: =SUM(AB42:AB46) -> 0 | AC41: =SUM(AC42:AC46) -> 0 | AD41: =SUM(AD42:AD46) -> 0
C47: 小計 | D47: =SUM(D17,D23,D29,D35,D41) -> 0 | E47: =SUM(E17,E23,E29,E35,E41) -> 0 | F47: 小計 | G47: =SUM(G17,G23,G29,G35,G41) -> 0 | H47: =SUM(H17,H23,H29,H35,H41) -> 0 | I47: =SUM(I17,I23,I29,I35,I41) -> 0 | J47: =SUM(J17,J23,J29,J35,J41) -> 0 | K47: =SUM(K17,K23,K29,K35,K41) -> 0 | L47: =SUM(L17,L23,L29,L35,L41) -> 0 | M47: 小計 | N47: =SUM(N17,N23,N29,N35,N41) -> 0 | P47: =SUM(P17,P23,P29,P35,P41) -> 0 | Q47: =SUM(Q17,Q23,Q29,Q35,Q41) -> 0 | R47: =SUM(R17,R23,R29,R35,R41) -> 0 | S47: =SUM(S17,S23,S29,S35,S41) -> 0 | T47: =SUM(T17,T23,T29,T35,T41) -> 0 | U47: =SUM(U17,U23,U29,U35,U41) -> 0 | V47: 小計 | W47: =SUM(W17,W23,W29,W35,W41) -> 0 | Y47: =SUM(Y17,Y23,Y29,Y35,Y41) -> 0 | Z47: =SUM(Z17,Z23,Z29,Z35,Z41) -> 0 | AA47: =SUM(AA17,AA23,AA29,AA35,AA41) -> 0 | AB47: =SUM(AB17,AB23,AB29,AB35,AB41) -> 0 | AC47: =SUM(AC17,AC23,AC29,AC35,AC41) -> 0 | AD47: =SUM(AD17,AD23,AD29,AD35,AD41) -> 0
C49: （交付率2/3、3/4を適用する場合）当該交付率が該当する理由
C55: ※記入上の注意については、実施計画の記載要領を参照。
C66: 基盤構築分 | D66: プロジェクト実施分

Sheet 1-15-④（プ）
C3: 様式1-15 各事業詳細
C5: 地方公共団体名：
C6: 年度： | D6: 令和●（202■）
C7: 事業番号： | D7: ④ | E7: 区分： | F7: プロジェクト実施分
C8: 事業名：
AC9: （単位）千円
C10: 経費区分 | D10: 合計 | F10: 内訳
F11: 補助事業者執行分 | M11: 間接補助分
M12: 間接補助事業者①の執行分 | V12: 間接補助事業者②の執行分
M13: 【機関名】 | V13: 【機関名】
F14: 経費区分 | G14: 交付率：1/2 | I14: 交付率：2/3 | K14: 交付率：3/4 | M14: 経費区分 | N14: 間①執行額 | O14: 間接補助率 | P14: 交付率：1/2 | R14: 交付率：2/3 | T14: 交付率：3/4 | V14: 経費区分 | W14: 間①執行額 | X14: 間接補助率 | Y14: 交付率：1/2 | AA14: 交付率：2/3 | AC14: 交付率：3/4
D15: 交付対象 事業費 | G15: 交付対象 事業費 | I15: 交付対象 事業費 | K15: 交付対象 事業費 | P15: 間接補 助額 | R15: 間接補 助額 | T15: 間接補 助額 | Y15: 間接補 助額 | AA15: 間接補 助額 | AC15: 間接補 助額
E16: 交付申請額 | H16: 交付申請額 | J16: 交付申請額 | L16: 交付申請額 | Q16: 国費ベース | S16: 国費ベース | U16: 国費ベース | Z16: 国費ベース | AB16: 国費ベース | AD16: 国費ベース
C17: 【人件費・謝金】 | D17: =SUM(D18:D22) -> 0 | E17: =SUM(E18:E22) -> 0 | F17: 【人件費・謝金】 | G17: =SUM(G18:G22) -> 0 | H17: =SUM(H18:H22) -> 0 | I17: =SUM(I18:I22) -> 0 | J17: =SUM(J18:J22) -> 0 | K17: =SUM(K18:K22) -> 0 | L17: =SUM(L18:L22) -> 0 | M17: 【人件費・謝金】 | N17: =SUM(N18:N22) -> 0 | P17: =SUM(P18:P22) -> 0 | Q17: =SUM(Q18:Q22) -> 0 | R17: =SUM(R18:R22) -> 0 | S17: =SUM(S18:S22) -> 0 | T17: =SUM(T18:T22) -> 0 | U17: =SUM(U18:U22) -> 0 | V17: 【人件費・謝金】 | W17: =SUM(W18:W22) -> 0 | Y17: =SUM(Y18:Y22) -> 0 | Z17: =SUM(Z18:Z22) -> 0 | AA17: =SUM(AA18:AA22) -> 0 | AB17: =SUM(AB18:AB22) -> 0 | AC17: =SUM(AC18:AC22) -> 0 | AD17: =SUM(AD18:AD22) -> 0
C23: 【旅費】 | D23: =SUM(D24:D28) -> 0 | E23: =SUM(E24:E28) -> 0 | F23: 【旅費】 | G23: =SUM(G24:G28) -> 0 | H23: =SUM(H24:H28) -> 0 | I23: =SUM(I24:I28) -> 0 | J23: =SUM(J24:J28) -> 0 | K23: =SUM(K24:K28) -> 0 | L23: =SUM(L24:L28) -> 0 | M23: 【旅費】 | N23: =SUM(N24:N28) -> 0 | P23: =SUM(P24:P28) -> 0 | Q23: =SUM(Q24:Q28) -> 0 | R23: =SUM(R24:R28) -> 0 | S23: =SUM(S24:S28) -> 0 | T23: =SUM(T24:T28) -> 0 | U23: =SUM(U24:U28) -> 0 | V23: 【旅費】 | W23: =SUM(W24:W28) -> 0 | Y23: =SUM(Y24:Y28) -> 0 | Z23: =SUM(Z24:Z28) -> 0 | AA23: =SUM(AA24:AA28) -> 0 | AB23: =SUM(AB24:AB28) -> 0 | AC23: =SUM(AC24:AC28) -> 0 | AD23: =SUM(AD24:AD28) -> 0
C29: 【施設整備経費】 | D29: =SUM(D30:D34) -> 0 | E29: =SUM(E30:E34) -> 0 | F29: 【施設整備経費】 | G29: =SUM(G30:G34) -> 0 | H29: =SUM(H30:H34) -> 0 | I29: =SUM(I30:I34) -> 0 | J29: =SUM(J30:J34) -> 0 | K29: =SUM(K30:K34) -> 0 | L29: =SUM(L30:L34) -> 0 | M29: 【施設整備経費】 | N29: =SUM(N30:N34) -> 0 | P29: =SUM(P30:P34) -> 0 | Q29: =SUM(Q30:Q34) -> 0 | R29: =SUM(R30:R34) -> 0 | S29: =SUM(S30:S34) -> 0 | T29: =SUM(T30:T34) -> 0 | U29: =SUM(U30:U34) -> 0 | V29: 【施設整備経費】 | W29: =SUM(W30:W34) -> 0 | Y29: =SUM(Y30:Y34) -> 0 | Z29: =SUM(Z30:Z34) -> 0 | AA29: =SUM(AA30:AA34) -> 0 | AB29: =SUM(AB30:AB34) -> 0 | AC29: =SUM(AC30:AC34) -> 0 | AD29: =SUM(AD30:AD34) -> 0
